BEGIN:VCALENDAR
VERSION:2.0
PRODID:-//Vakok és Gyengénlátók Közép-Magyarországi Regionális Egyesülete - ECPv6.15.20//NONSGML v1.0//EN
CALSCALE:GREGORIAN
METHOD:PUBLISH
X-ORIGINAL-URL:https://vgyke.com
X-WR-CALDESC:Események Vakok és Gyengénlátók Közép-Magyarországi Regionális Egyesülete
REFRESH-INTERVAL;VALUE=DURATION:PT1H
X-Robots-Tag:noindex
X-PUBLISHED-TTL:PT1H
BEGIN:VTIMEZONE
TZID:Europe/Budapest
BEGIN:DAYLIGHT
TZOFFSETFROM:+0100
TZOFFSETTO:+0200
TZNAME:CEST
DTSTART:20220327T010000
END:DAYLIGHT
BEGIN:STANDARD
TZOFFSETFROM:+0200
TZOFFSETTO:+0100
TZNAME:CET
DTSTART:20221030T010000
END:STANDARD
BEGIN:DAYLIGHT
TZOFFSETFROM:+0100
TZOFFSETTO:+0200
TZNAME:CEST
DTSTART:20230326T010000
END:DAYLIGHT
BEGIN:STANDARD
TZOFFSETFROM:+0200
TZOFFSETTO:+0100
TZNAME:CET
DTSTART:20231029T010000
END:STANDARD
BEGIN:DAYLIGHT
TZOFFSETFROM:+0100
TZOFFSETTO:+0200
TZNAME:CEST
DTSTART:20240331T010000
END:DAYLIGHT
BEGIN:STANDARD
TZOFFSETFROM:+0200
TZOFFSETTO:+0100
TZNAME:CET
DTSTART:20241027T010000
END:STANDARD
BEGIN:DAYLIGHT
TZOFFSETFROM:+0100
TZOFFSETTO:+0200
TZNAME:CEST
DTSTART:20250330T010000
END:DAYLIGHT
BEGIN:STANDARD
TZOFFSETFROM:+0200
TZOFFSETTO:+0100
TZNAME:CET
DTSTART:20251026T010000
END:STANDARD
END:VTIMEZONE
BEGIN:VEVENT
DTSTART;TZID=Europe/Budapest:20231218T150000
DTEND;TZID=Europe/Budapest:20231218T163000
DTSTAMP:20260423T092332
CREATED:20231213T101711Z
LAST-MODIFIED:20231213T101711Z
UID:34526-1702911600-1702917000@vgyke.com
SUMMARY:Karácsonyi klub
DESCRIPTION:Szeretettel hívunk karácsonyi klubunkra\, mely a szokott helyen és időben kerül megrendezésre. Légy vendégünk egy forró teára\, karácsonyi sütire; készüljünk együtt a téli évszak legnagyobb ünnepére! Klubunkon kihirdetjük a novemberi Halloween-jelmezverseny eredményét is. \nAz esemény Facebook-linkje:\nhttps://fb.me/e/7WO7prvve \nVárunk szeretettel!
URL:https://vgyke.com/event/karacsonyi-klub/
LOCATION:Napraforgó Család- és Gyermekjóléti Központ 1163 Budapest\, Cziráki utca 22.  I. emelet klubterem
ORGANIZER;CN="Czag%C3%A1ny Izabella":MAILTO:16.kerulet.szervezo@vgyke.com
END:VEVENT
BEGIN:VEVENT
DTSTART;TZID=Europe/Budapest:20231219T190000
DTEND;TZID=Europe/Budapest:20231219T220000
DTSTAMP:20260423T092332
CREATED:20231207T090711Z
LAST-MODIFIED:20231207T090711Z
UID:34515-1703012400-1703023200@vgyke.com
SUMMARY:„Maga lesz a férjem!” – színház az újpesti Lámpás-klubbal
DESCRIPTION:
URL:https://vgyke.com/event/maga-lesz-a-ferjem-szinhaz-az-ujpesti-lampas-klubbal/
LOCATION:Karinthy Színház (1115 Bp. Bartók Béla út 130.)
ORGANIZER;CN="Murg%C3%A1cs J%C3%A1nosn%C3%A9":MAILTO:ujpest.szervezo@vgyke.com
END:VEVENT
BEGIN:VEVENT
DTSTART;TZID=Europe/Budapest:20231220T140000
DTEND;TZID=Europe/Budapest:20231220T143000
DTSTAMP:20260423T092332
CREATED:20231207T090053Z
LAST-MODIFIED:20231207T090053Z
UID:34511-1703080800-1703082600@vgyke.com
SUMMARY:Karácsonyi Online Klub
DESCRIPTION:Beszélünk az Adventről és a Karácsonyról\, valamint december egyéb\, jeles napjairól.
URL:https://vgyke.com/event/karacsonyi-online-klub/
LOCATION:Online: http://www.facebook.com/KozossegLampasaiKispest
END:VEVENT
BEGIN:VEVENT
DTSTART;TZID=Europe/Budapest:20231221T160000
DTEND;TZID=Europe/Budapest:20231221T163000
DTSTAMP:20260423T092332
CREATED:20231213T100536Z
LAST-MODIFIED:20231213T101303Z
UID:34521-1703174400-1703176200@vgyke.com
SUMMARY:2. kerület decemberi online lámpás klub
DESCRIPTION:Vidám ünnepek\, akár egyedül is!
URL:https://vgyke.com/event/2-kerulet-decemberi-online-lampas-klub/
LOCATION:https://www.facebook.com/KozossegLampasaiMasodikKerulet
ORGANIZER;CN="T%C3%B6r%C3%B6k-Zselensky Eszter":MAILTO:2.kerulet.szervezo@vgyke.com
END:VEVENT
BEGIN:VEVENT
DTSTART;TZID=Europe/Budapest:20231221T160000
DTEND;TZID=Europe/Budapest:20231221T163000
DTSTAMP:20260423T092332
CREATED:20231213T101126Z
LAST-MODIFIED:20231213T101126Z
UID:34523-1703174400-1703176200@vgyke.com
SUMMARY:Hegyvidék decemberi online alkalom
DESCRIPTION:Vidám ünnepek\, akár egyedül is!
URL:https://vgyke.com/event/hegyvidek-decemberi-online-alkalom/
LOCATION:https://www.facebook.com/KozossegLampasaiHegyvidek
ORGANIZER;CN="T%C3%B6r%C3%B6k-Zselensky Eszter":MAILTO:2.kerulet.szervezo@vgyke.com
END:VEVENT
BEGIN:VEVENT
DTSTART;TZID=Europe/Budapest:20240105T160000
DTEND;TZID=Europe/Budapest:20240105T180000
DTSTAMP:20260423T092332
CREATED:20231222T111203Z
LAST-MODIFIED:20231222T111322Z
UID:34588-1704470400-1704477600@vgyke.com
SUMMARY:Klubnap
DESCRIPTION:Első klubnapunkon megbeszéljük az eljövendő év programjait\, eseményeit\, tagjaink beszámolnak hogyan teltek az ünnepek.
URL:https://vgyke.com/event/klubnap-17/
LOCATION:FMK Budapest Haller u. 27. 1093
END:VEVENT
BEGIN:VEVENT
DTSTART;TZID=Europe/Budapest:20240105T190000
DTEND;TZID=Europe/Budapest:20240105T210000
DTSTAMP:20260423T092332
CREATED:20231222T112006Z
LAST-MODIFIED:20231222T223601Z
UID:34592-1704481200-1704488400@vgyke.com
SUMMARY:Miklósa Erika és MÁV Szimfonikus zenekara újévi koncert
DESCRIPTION:Újévi koncerten Miklósa Erika és a MÁV szimfonikus zenekara lép fel.
URL:https://vgyke.com/event/miklosa-erika-es-mav-szimfonikus-zenekara-ujevi-koncert/
LOCATION:MÜPA
END:VEVENT
BEGIN:VEVENT
DTSTART;TZID=Europe/Budapest:20240108T140000
DTEND;TZID=Europe/Budapest:20240108T163000
DTSTAMP:20260423T092332
CREATED:20240102T182433Z
LAST-MODIFIED:20240102T182433Z
UID:34596-1704722400-1704731400@vgyke.com
SUMMARY:Rákosmente januári klubeseménye
DESCRIPTION:Visszatekintő klub
URL:https://vgyke.com/event/rakosmente-januari-klubesemenye/
LOCATION:Rákoshegyi Közösségi Ház Kép u.7-9
END:VEVENT
BEGIN:VEVENT
DTSTART;TZID=Europe/Budapest:20240108T150000
DTEND;TZID=Europe/Budapest:20240108T170000
DTSTAMP:20260423T092332
CREATED:20240105T094904Z
LAST-MODIFIED:20240105T094904Z
UID:34611-1704726000-1704733200@vgyke.com
SUMMARY:Évindító klubnap\, programtervezéssel
DESCRIPTION:A jelenlévők elmesélhetik\, miként teltek nekik az ünnepek és átbeszéljük milyen programokat tervezünk a 2024-es évre.
URL:https://vgyke.com/event/evindito-klubnap-programtervezessel/
LOCATION:Kőrösi Csoma Sándor Kőbányai Kulturális Központ (1105. Budapest\, Szent László tér 7-14)
ORGANIZER;CN="Duplinszki Katalin":MAILTO:kobanya.szervezo@vgyke.com
END:VEVENT
BEGIN:VEVENT
DTSTART;TZID=Europe/Budapest:20240110T150000
DTEND;TZID=Europe/Budapest:20240110T160000
DTSTAMP:20260423T092332
CREATED:20240104T084333Z
LAST-MODIFIED:20240104T084333Z
UID:34608-1704898800-1704902400@vgyke.com
SUMMARY:Havi Klub
DESCRIPTION:Aroma és illat randevú. \nKedves Tagjaink\, Kísérők\, Érdeklődők! \nEz év első klub óráin\, próbára tehetjük a szaglásunkat.\nValamint\, az előadók segítségével megismerkedhetünk\naz esszenciális illóolajok változatos világával. Kedves\nmeghívott vendégeink Nagy Laura\, Dóra András\, és Láziné Mosonyi Ágnes nem csak az illatokról tartanak bemutatót\, de azt is megtudhatjuk tőlük\, hogy mire is jók ezek az illat esszenciák.\nVárunk mindenkit szeretettel. Bárki látogathatja klub foglalkozásainkat\, és részt vehet programjainkon. Szívesen fogadjuk az önkéntes segítőket is! \nVárjuk minden kedves tagunkat\, családtagjaikat és kísérőiket!
URL:https://vgyke.com/event/havi-klub/
LOCATION:Újpesti Ifjúsági Ház 1042 Budapest István út 17-19
ORGANIZER;CN="Murg%C3%A1cs J%C3%A1nosn%C3%A9":MAILTO:ujpest.szervezo@vgyke.com
END:VEVENT
BEGIN:VEVENT
DTSTART;TZID=Europe/Budapest:20240111T140000
DTEND;TZID=Europe/Budapest:20240111T160000
DTSTAMP:20260423T092332
CREATED:20240111T090512Z
LAST-MODIFIED:20240111T090512Z
UID:34665-1704981600-1704988800@vgyke.com
SUMMARY:Évindító klubnap Pesterzsébeten
DESCRIPTION:Szeretettel hívok mindenkit az idei első klubnapunkra\, melyen kötetlen beszélgetés keretében megvitatjuk a 2024-es év leendő eseményeit\, programjait. \nVárok Mindenkit szeretettel!
URL:https://vgyke.com/event/evindito-klubnap-pesterzsebeten/
LOCATION:Csili Művelődési Központ “B” épület 2. terem (1201 Budapest Baross utca 55.)
ORGANIZER;CN="Dudikn%C3%A9 R%C3%A1cz Andrea":MAILTO:pesterzsebet.szervezo@vgyke.com
END:VEVENT
BEGIN:VEVENT
DTSTART;TZID=Europe/Budapest:20240113T110000
DTEND;TZID=Europe/Budapest:20240113T133000
DTSTAMP:20260423T092332
CREATED:20240111T085028Z
LAST-MODIFIED:20240111T085028Z
UID:34657-1705143600-1705152600@vgyke.com
SUMMARY:Hírességek bűvöletében: tárlatvezetés Madame Tussauds panoptikumában
DESCRIPTION:Mindig is arról álmodtál\, hogy saját szemeddel lásd történelmünk nagyjait: Kossuthot\, Petőfit\, Szent István királyt? Teáznál Sissivel és II. Erzsébettel\, eszmét cserélnél Ferenc pápával? Rúgnád a bőrt Puskás Öcsivel? Vagy inkább belevetnéd magad Budapest éjszakai életébe George Clooney-val vagy Marilyn Monroe-val\, hogy Rihanna és Freddie Mercury mellett ropd a színpadon? \nGyere velünk Madame Tussauds múzeumába\, ahol megszólalásig élethű viaszszobrok hozzák közel a régmúlt és napjaink hírességeit!\nA kiállítást\, melynek költsége 5000 Ft/ 2 fő (látássérült és kísérője)\, tárlatvezetéssel nézhetjük meg – ezért kérlek\, időben érkezz! A program időtartama előreláthatóan 150 perc. \nAz előtérben lehetőség van a kabátok és a kisebb csomagok elzárására; nagyobb csomagokat azonban nem tudnak elhelyezni\, így kérlek\, ilyet most ne hozz magaddal!\nAmennyiben vakvezető kutyád van\, természetesen ő is veled jöhet a kiállítótérbe. \nHa szeretnél csatlakozni hozzánk\, 2021.01.12. 18:00-ig jelentkezz a lenti elérhetőségek valamelyikén! Kísérőt ez alkalommal sajnos nem áll módunkban biztosítani.\nA VGYKE tagjai mellett természetesen nagy szeretettel várunk bárkit: látássérülteket bármely korosztályban\, más fogyatékkal élőket\, jól látó társaikat\, ismerőseiket\, lelkes önkénteseket is! \nA helyszín megközelíthetősége: 105\, 210-es buszok (Hild tér); M2\, M3 metróvonalak (Deák Ferenc tér); M1 kis-földalatti (Vörösmarty tér)\nTalálkozó: 9:40-9:50 Örs vezér tere M2 bejárat (kürtöskalácsosnál); illetve 10:15 Deák téri aluljáró (Princess pékség előtt) \nProgramunk további részletei Facebook-eseményünkben olvashatóak (a link Facebook-profil megléte nélkül is megtekinthető):\nhttps://fb.me/e/goA4VfIgh \nVárunk szeretettel!
URL:https://vgyke.com/event/hiressegek-buvoleteben-tarlatvezetes-madame-tussauds-panoptikumaban/
LOCATION:Madame Tussauds Budapest (Budapest\, Dorottya u. 6\, 1051)
ORGANIZER;CN="Czag%C3%A1ny Izabella":MAILTO:16.kerulet.szervezo@vgyke.com
END:VEVENT
BEGIN:VEVENT
DTSTART;TZID=Europe/Budapest:20240113T110000
DTEND;TZID=Europe/Budapest:20240113T150000
DTSTAMP:20260423T092332
CREATED:20240110T085508Z
LAST-MODIFIED:20240110T085508Z
UID:34639-1705143600-1705158000@vgyke.com
SUMMARY:Látogatás a Madame Tussauds viaszmúzeumba
DESCRIPTION:A XIII. kerületi Lámpás klub tagjai ellátogatnak a Madame Tussauds viaszmúzeumba
URL:https://vgyke.com/event/latogatas-a-madame-tussauds-viaszmuzeumba/
LOCATION:1051. Budapest\, Dorottya u. 6.
ORGANIZER;CN="Majl%C3%A1th M%C3%B3nika":MAILTO:angyalfold.szervezo@vgyke.com
END:VEVENT
BEGIN:VEVENT
DTSTART;TZID=Europe/Budapest:20240113T111500
DTEND;TZID=Europe/Budapest:20240113T133000
DTSTAMP:20260423T092332
CREATED:20240111T090156Z
LAST-MODIFIED:20240111T090156Z
UID:34662-1705144500-1705152600@vgyke.com
SUMMARY:Mozizás a Cinema City Westendben
DESCRIPTION:Szeretettel hívok Mindenkit idei első klubprogramunk gyanánt a Cinema City Westendbe\, ahol a Semmelweis című filmdráma kerül vetítésre. \nA program önköltséges\, a jegyek ára MVGYOSZ igazolvánnyal 2.400 Ft/fő\, teljes árú jegy 2.900 Ft/fő. \nAz előadás időpontja: 2024. január 13. 11:15\nHelyszíne: Cinema City Westend (1069 Budapest Váci út 1-3.)\nTalálkozás a program előtt egy órával\, 10:15-kor a 4-6-os villamos Nyugati megállóban.\nJelentkezési határidő: 2024. január 12. 12:00
URL:https://vgyke.com/event/mozizas-a-cinema-city-westendben/
LOCATION:Cinema City Westend (1069 Budapest Váci út 1-3.)
ORGANIZER;CN="Dudikn%C3%A9 R%C3%A1cz Andrea":MAILTO:pesterzsebet.szervezo@vgyke.com
END:VEVENT
BEGIN:VEVENT
DTSTART;TZID=Europe/Budapest:20240115T150000
DTEND;TZID=Europe/Budapest:20240115T163000
DTSTAMP:20260423T092332
CREATED:20240111T085817Z
LAST-MODIFIED:20240111T085817Z
UID:34660-1705330800-1705336200@vgyke.com
SUMMARY:Időszámítás és egyéb érdekességek - évnyitó klub
DESCRIPTION:Kedves Tagunk\, kedves Kísérő! \nSzeretettel várunk titeket évnyitó klubunkra\, melynek témája – az új év jegyében – az időszámítás és a különféle naptárrend-szerek. Valóban 2024-et írunk – és ha igen\, biztos\, hogy január elsejétől? Miért tartunk a péntek 13-tól?\nLátogass el hozzánk\, hogy némi tea és egyebek mellett felelevenítsük a 2023-as év legjobb pillanatait is; illetve hasonló élményekkel kecsegtető terveket szőjünk az idei évre! \nA VGYKE tagjai mellett természetesen nagy szeretettel várunk bárkit: látássérülteket bármely korosztályban\, más fogyatékkal élőket\, jól látó társaikat\, ismerőseiket\, lelkes önkénteseket is!\nKérjük\, amennyiben ismersz olyat\, aki szívesen segítené önkéntesként klubjaink és programjaink lebonyolítását (főképp kísérésben)\, ajánlj neki minket! \nAz esemény Facebook-linkje:\nhttps://fb.me/e/68VY6RvaY \n 
URL:https://vgyke.com/event/idoszamitas-es-egyeb-erdekessegek-evnyito-klub/
LOCATION:Napraforgó Család- és Gyermekjóléti Központ 1163 Budapest\, Cziráki utca 22.  I. emelet klubterem
ORGANIZER;CN="Czag%C3%A1ny Izabella":MAILTO:16.kerulet.szervezo@vgyke.com
END:VEVENT
BEGIN:VEVENT
DTSTART;TZID=Europe/Budapest:20240117T140000
DTEND;TZID=Europe/Budapest:20240117T143000
DTSTAMP:20260423T092332
CREATED:20240111T083836Z
LAST-MODIFIED:20240111T083920Z
UID:34653-1705500000-1705501800@vgyke.com
SUMMARY:Évindító klub
DESCRIPTION:Új év\, új lehetőségek\, januári jeles napok. Január 4-e a Braille-írás világnapja Louis Braille (1809-1852) születésnapja. Ennek kapcsán online felhívjuk Nemes-Nagy Tündét\, a Vakok és Gyengénlátók Szabolcs-Szatmár-Bereg megyei Egyesületének elnökét\, aki munkatársaival különösen fontosnak tartja a Braille-kultúra ápolását.
URL:https://vgyke.com/event/evindito-klub/
LOCATION:Online: http://www.facebook.com/KozossegLampasaiKispest
ORGANIZER;CN="Ruzsa Viktor":MAILTO:kispest.szervezo@vgyke.com
END:VEVENT
BEGIN:VEVENT
DTSTART;TZID=Europe/Budapest:20240118T140000
DTEND;TZID=Europe/Budapest:20240118T143000
DTSTAMP:20260423T092332
CREATED:20240112T110101Z
LAST-MODIFIED:20240112T110332Z
UID:34672-1705586400-1705588200@vgyke.com
SUMMARY:Program
DESCRIPTION:Látogatás a rendőr múzeumban
URL:https://vgyke.com/event/program-8/
LOCATION:Mosonyi utca 5.
END:VEVENT
BEGIN:VEVENT
DTSTART;TZID=Europe/Budapest:20240118T140000
DTEND;TZID=Europe/Budapest:20240118T160000
DTSTAMP:20260423T092332
CREATED:20240123T181136Z
LAST-MODIFIED:20240123T181208Z
UID:34737-1705586400-1705593600@vgyke.com
SUMMARY:Évindító klubnap Erzsébetvárosban
DESCRIPTION:A résztvevők együtt tervezik a 2024-es év programjait és klubtémáit.
URL:https://vgyke.com/event/evindito-klubnap-erzsebetvarosban/
LOCATION:1077. Budapest\, Nagydiófa utca 34. (KlauDió Civil Központ)
ORGANIZER;CN="J%C3%A1nosi Veronika":MAILTO:erzsebetvaros.szervezo@vgyke.com
END:VEVENT
BEGIN:VEVENT
DTSTART;TZID=Europe/Budapest:20240119T100000
DTEND;TZID=Europe/Budapest:20240119T120000
DTSTAMP:20260423T092332
CREATED:20231207T084657Z
LAST-MODIFIED:20231207T084856Z
UID:34505-1705658400-1705665600@vgyke.com
SUMMARY:Nemzeti ikonjaink: az Országház és a Szent Korona
DESCRIPTION:A Duna bal partján álló Országház nemcsak a főváros\, de az egész ország egyik legismertebb jelképe is; Európa második\, és a világ harmadik legnagyobb parlamenti épülete. Itt székel az Országgyűlés\, illetve az Országgyűlési Könyvtár is. Mivel kétkamarás országgyűlés számára készült\, az épület teljesen szimmetrikus. Padlóját vastag szőnyegek borítják\, falait\, csarnokait gazdag díszítések\, csodálatos szobrok ékesítik.\nMa az alsóházi üléstermet használják parlamenti ülések alkalmával\, így a felsőházi turisták számára is látogatható. Ezt nézzük majd meg; illetve terveink szerint sorra kerítjük a társalgókat is – illetve nem maradhat ki a díszlépcsőház\, és a kupolacsarnok sem\, ahol a 2000 óta itt őrzött Magyar Szent Koronát is megtekinthetjük.\nLégy része egy izgalmas sétának\, ahol rengeteg látni- és hallanivaló vár! Tarts velünk! \nTalálkozó: Újpest-központ aluljáró\, 8:45-8:55 (még változhat\, ugyanis az aznapi útvonaltervező még nem elérhető!)\nA csoport maximális létszáma 30 fő\, melyet a jelentkezések sorrendjében fogunk feltölteni. A múzeumba való belépés a csoportnak ingyenes; vakvezető kutya természetesen hozható. Személyi igazolvány nélkül az őrség a belépést nem engedélyezi!\nA programra előzetes bejelentkezés szükséges legkésőbb 2023. december 11. 12:00-ig! Kísérőt sajnos csak igen korlátozott mértékben tudunk biztosítani\, ezirányú igényeiteket mindenképp jelezzétek\, vagy gondoskodjatok saját segítőről. Megértéseteket köszönjük! \nA program további részletei – esetleges változások\, felszabaduló helyek\, stb. – Facebook-eseményünkben olvashatóak\, mely Facebook-fiók megléte nélkül is megtekinthető:\nhttps://fb.me/e/49bLVXT0I
URL:https://vgyke.com/event/nemzeti-ikonjaink-az-orszaghaz-es-a-szent-korona/
LOCATION:Országház (1056 Bp.\, Kossuth Lajos tér 1-3.)
ORGANIZER;CN="Murg%C3%A1cs J%C3%A1nosn%C3%A9":MAILTO:ujpest.szervezo@vgyke.com
END:VEVENT
BEGIN:VEVENT
DTSTART;TZID=Europe/Budapest:20240119T100000
DTEND;TZID=Europe/Budapest:20240119T120000
DTSTAMP:20260423T092332
CREATED:20240111T084414Z
LAST-MODIFIED:20240111T084517Z
UID:34655-1705658400-1705665600@vgyke.com
SUMMARY:Évindító klub Békásmegyeren
DESCRIPTION:Törzstagunk\, Papp Györgyné Anikó ad elő saját verseiből és novelláiból\, majd évkezdő beszélgetést tartunk a tagokkal\, amelynek során javaslatokat tehetnek arra\, milyen programokat szeretnének közösen megvalósítani.
URL:https://vgyke.com/event/evindito-klub-bekasmegyeren/
LOCATION:Békásmegyeri Közösségi Ház (1039 Budapest Csobánka tér 5.) I. emeleti kisterem
ORGANIZER;CN="Ruzsa Viktor":MAILTO:kispest.szervezo@vgyke.com
END:VEVENT
BEGIN:VEVENT
DTSTART;TZID=Europe/Budapest:20240122T150000
DTEND;TZID=Europe/Budapest:20240122T170000
DTSTAMP:20260423T092332
CREATED:20240110T084803Z
LAST-MODIFIED:20240110T084803Z
UID:34637-1705935600-1705942800@vgyke.com
SUMMARY:Angyalföldi Lámpás Klub 2024. évi tervei
DESCRIPTION:A XIII. kerületi Lámpás klub tagjai ötletelnek a 2024-es év programjairól\, klubjairól
URL:https://vgyke.com/event/angyalfoldi-lampas-klub-2024-evi-tervei/
LOCATION:1134. Budapest\, Tüzér u. 56-58.
ORGANIZER;CN="Majl%C3%A1th M%C3%B3nika":MAILTO:angyalfold.szervezo@vgyke.com
END:VEVENT
BEGIN:VEVENT
DTSTART;TZID=Europe/Budapest:20240122T150000
DTEND;TZID=Europe/Budapest:20240122T170000
DTSTAMP:20260423T092332
CREATED:20240118T104718Z
LAST-MODIFIED:20240118T104718Z
UID:34709-1705935600-1705942800@vgyke.com
SUMMARY:Angyalföld 2024. első klubnapja
DESCRIPTION:2024. januári klubnap Angyalföldön
URL:https://vgyke.com/event/angyalfold-2024-elso-klubnapja/
LOCATION:Prevenciós Központ 1134. Budapest\, Tüzér u. 56-58.
ORGANIZER;CN="Majl%C3%A1th M%C3%B3nika":MAILTO:angyalfold.szervezo@vgyke.com
END:VEVENT
BEGIN:VEVENT
DTSTART;TZID=Europe/Budapest:20240123T180000
DTEND;TZID=Europe/Budapest:20240123T210000
DTSTAMP:20260423T092332
CREATED:20240116T150416Z
LAST-MODIFIED:20240116T150416Z
UID:34694-1706032800-1706043600@vgyke.com
SUMMARY:Kéttamás-koncert és teázás-ingyenes belépés KF&T Galéria és Klub
DESCRIPTION:Zenés verseket hallgathatunk egy téli estén forró teázással egybekötve. Az est meghívott vendége Lukács István.
URL:https://vgyke.com/event/kettamas-koncert-es-teazas-ingyenes-belepes-kft-galeria-es-klub/
LOCATION:Kéttamás-koncert és teázás-ingyenes belépés KF&T Galéria és Klub KF&T Galéria és klub bejárat a Bocskai útról.
END:VEVENT
BEGIN:VEVENT
DTSTART;TZID=Europe/Budapest:20240125T100000
DTEND;TZID=Europe/Budapest:20240125T120000
DTSTAMP:20260423T092332
CREATED:20240111T161048Z
LAST-MODIFIED:20240111T161048Z
UID:34668-1706176800-1706184000@vgyke.com
SUMMARY:Múzeum látogatás
DESCRIPTION:Ismerkedés a posta történetével a budapesti Postamúzeumban.
URL:https://vgyke.com/event/muzeum-latogatas/
LOCATION:Postamúzeum Budapest\, Benczúr u. 27\, 1068
ORGANIZER;CN="Kiss M%C3%A1rta":MAILTO:zuglo.szervezo@vgyke.com
END:VEVENT
BEGIN:VEVENT
DTSTART;TZID=Europe/Budapest:20240125T100000
DTEND;TZID=Europe/Budapest:20240125T140000
DTSTAMP:20260423T092332
CREATED:20240123T181630Z
LAST-MODIFIED:20240123T181630Z
UID:34739-1706176800-1706191200@vgyke.com
SUMMARY:Látogatás  a Magyar Kultúra Napja tiszteletére megtartott előadásra
DESCRIPTION:A jelenlévők verses-dalos összeállítást hallgatnak meg az ünnep tiszteletére.
URL:https://vgyke.com/event/latogatas-a-magyar-kultura-napja-tiszteletere-megtartott-eloadasra/
LOCATION:1075. Budapest\, Király utca 11. (K11 Művészeti és Kulturális Központ)
ORGANIZER;CN="J%C3%A1nosi Veronika":MAILTO:erzsebetvaros.szervezo@vgyke.com
END:VEVENT
BEGIN:VEVENT
DTSTART;TZID=Europe/Budapest:20240125T160000
DTEND;TZID=Europe/Budapest:20240125T163000
DTSTAMP:20260423T092332
CREATED:20240108T151218Z
LAST-MODIFIED:20240108T151622Z
UID:34632-1706198400-1706200200@vgyke.com
SUMMARY:2. kerület januári online lámpás klub
DESCRIPTION:Új év\, új kezdet! Hogyan segíthet ebben a VGYKE?
URL:https://vgyke.com/event/2-kerulet-januari-online-lampas-klub/
LOCATION:https://www.facebook.com/KozossegLampasaiMasodikKerulet
ORGANIZER;CN="T%C3%B6r%C3%B6k-Zselensky Eszter":MAILTO:2.kerulet.szervezo@vgyke.com
END:VEVENT
BEGIN:VEVENT
DTSTART;TZID=Europe/Budapest:20240125T160000
DTEND;TZID=Europe/Budapest:20240125T163000
DTSTAMP:20260423T092332
CREATED:20240108T151504Z
LAST-MODIFIED:20240108T151504Z
UID:34634-1706198400-1706200200@vgyke.com
SUMMARY:Hegyvidék januári online lámpás klub
DESCRIPTION:Új év\, új kezdet! Hogyan segíthet ebben a VGYKE?
URL:https://vgyke.com/event/hegyvidek-januari-online-lampas-klub/
LOCATION:https://www.facebook.com/KozossegLampasaiHegyvidek
ORGANIZER;CN="T%C3%B6r%C3%B6k-Zselensky Eszter":MAILTO:2.kerulet.szervezo@vgyke.com
END:VEVENT
BEGIN:VEVENT
DTSTART;TZID=Europe/Budapest:20240127T150000
DTEND;TZID=Europe/Budapest:20240127T170000
DTSTAMP:20260423T092332
CREATED:20240111T083010Z
LAST-MODIFIED:20240111T083106Z
UID:34650-1706367600-1706374800@vgyke.com
SUMMARY:Machbeth
DESCRIPTION:2024. január 27. Pinceszínház Machbeth előadás
URL:https://vgyke.com/event/machbeth/
LOCATION:Budapest Török Pál utca 9. 1093
END:VEVENT
BEGIN:VEVENT
DTSTART;TZID=Europe/Budapest:20240129T140000
DTEND;TZID=Europe/Budapest:20240129T160000
DTSTAMP:20260423T092332
CREATED:20240126T075927Z
LAST-MODIFIED:20240126T075927Z
UID:34746-1706536800-1706544000@vgyke.com
SUMMARY:Gyermekvállalás látássérültként
DESCRIPTION:Sok szeretettel várok minden kedves Tagot és Érdeklődőt januári online klubnapunkon.\nBeszélgetőpartnerem lesz Egyesületünk tagja és munkatársa\, Kollárszky Boglárka\, aki látássérült és három gyermek édesanyja.\nTémánk ezúttal is nagyon érdekesnek ígérkezik\, ami pedig a „Gyermekvállalás látássérültként”.\nA januári online klub megtekinthető lesz a Közösség Lámpásai – pesterzsébeti látássérültek Klubja Facebook oldalunkon\, melynek linkje:\nhttps://www.facebook.com/profile.php?id=100086231424324 \nÉrdemes lesz velünk tartani!
URL:https://vgyke.com/event/gyermekvallalas-latasserultkent/
ORGANIZER;CN="Dudikn%C3%A9 R%C3%A1cz Andrea":MAILTO:pesterzsebet.szervezo@vgyke.com
END:VEVENT
BEGIN:VEVENT
DTSTART;TZID=Europe/Budapest:20240130T093000
DTEND;TZID=Europe/Budapest:20240130T130000
DTSTAMP:20260423T092332
CREATED:20240123T173422Z
LAST-MODIFIED:20240123T173422Z
UID:34734-1706607000-1706619600@vgyke.com
SUMMARY:Dohány utcai Zsinagóga meglátogatása
DESCRIPTION:A résztvevők megismerkednek a Zsinagóga építészetével és a zsidóság kultúrtörténetével.
URL:https://vgyke.com/event/dohany-utcai-zsinagoga-meglatogatasa/
LOCATION:Dohány utcai Zsinagóga (1074. Budapest\, Dohány utca 2.)
ORGANIZER;CN="Duplinszki Katalin":MAILTO:kobanya.szervezo@vgyke.com
END:VEVENT
END:VCALENDAR