BEGIN:VCALENDAR
VERSION:2.0
PRODID:-//Vakok és Gyengénlátók Közép-Magyarországi Regionális Egyesülete - ECPv6.15.20//NONSGML v1.0//EN
CALSCALE:GREGORIAN
METHOD:PUBLISH
X-ORIGINAL-URL:https://vgyke.com
X-WR-CALDESC:Események Vakok és Gyengénlátók Közép-Magyarországi Regionális Egyesülete
REFRESH-INTERVAL;VALUE=DURATION:PT1H
X-Robots-Tag:noindex
X-PUBLISHED-TTL:PT1H
BEGIN:VTIMEZONE
TZID:Europe/Budapest
BEGIN:DAYLIGHT
TZOFFSETFROM:+0100
TZOFFSETTO:+0200
TZNAME:CEST
DTSTART:20230326T010000
END:DAYLIGHT
BEGIN:STANDARD
TZOFFSETFROM:+0200
TZOFFSETTO:+0100
TZNAME:CET
DTSTART:20231029T010000
END:STANDARD
BEGIN:DAYLIGHT
TZOFFSETFROM:+0100
TZOFFSETTO:+0200
TZNAME:CEST
DTSTART:20240331T010000
END:DAYLIGHT
BEGIN:STANDARD
TZOFFSETFROM:+0200
TZOFFSETTO:+0100
TZNAME:CET
DTSTART:20241027T010000
END:STANDARD
BEGIN:DAYLIGHT
TZOFFSETFROM:+0100
TZOFFSETTO:+0200
TZNAME:CEST
DTSTART:20250330T010000
END:DAYLIGHT
BEGIN:STANDARD
TZOFFSETFROM:+0200
TZOFFSETTO:+0100
TZNAME:CET
DTSTART:20251026T010000
END:STANDARD
END:VTIMEZONE
BEGIN:VEVENT
DTSTART;TZID=Europe/Budapest:20240429T150000
DTEND;TZID=Europe/Budapest:20240429T170000
DTSTAMP:20260423T012247
CREATED:20240417T173206Z
LAST-MODIFIED:20240417T173206Z
UID:35485-1714402800-1714410000@vgyke.com
SUMMARY:A majális története
DESCRIPTION:Klubnapi beszélgetés a majálisról
URL:https://vgyke.com/event/a-majalis-tortenete/
LOCATION:Prevenciós Központ 1134. Budapest\, Tüzér u. 56-58.
ORGANIZER;CN="Majl%C3%A1th M%C3%B3nika":MAILTO:angyalfold.szervezo@vgyke.com
END:VEVENT
BEGIN:VEVENT
DTSTART;TZID=Europe/Budapest:20240430T170000
DTEND;TZID=Europe/Budapest:20240430T173000
DTSTAMP:20260423T012247
CREATED:20240422T075908Z
LAST-MODIFIED:20240422T075908Z
UID:35537-1714496400-1714498200@vgyke.com
SUMMARY:Fókuszban az anyák és gyermekek a józsefvárosi online Lámpás klubon
DESCRIPTION:Egy pár perces videóval\, s annak leírásában egy dokumentummal készülünk\, a címben jelzett témára fókuszálva. Aktuális hírek\, érdekességek\, hasznos tippek\, program- film- és könyvajánló\, s egy játék is szerepel majd benne. \nA kerület Facebook oldala: https://www.facebook.com/kozosseglampasaijozsefvaros \n 
URL:https://vgyke.com/event/fokuszban-az-anyak-es-gyermekek-a-jozsefvarosi-online-lampas-klubon/
LOCATION:https://www.facebook.com/kozosseglampasaijozsefvaros
ORGANIZER;CN="Horv%C3%A1thn%C3%A9 Dunaveczki Leona":MAILTO:jozsefvaros.szervezo@vgyke.com
END:VEVENT
BEGIN:VEVENT
DTSTART;TZID=Europe/Budapest:20240501T140000
DTEND;TZID=Europe/Budapest:20240501T180000
DTSTAMP:20260423T012247
CREATED:20240425T174503Z
LAST-MODIFIED:20240425T174544Z
UID:35586-1714572000-1714586400@vgyke.com
SUMMARY:Rákosmenti Majális
DESCRIPTION:Tarts velünk a rákosmenti majálisra a Népkertbe\, ahol mi lámpások is kint leszünk a standunkon érzékenyítős játékokkal!
URL:https://vgyke.com/event/rakosmenti-majalis/
LOCATION:Népkert\, XVII. K. 1173
END:VEVENT
BEGIN:VEVENT
DTSTART;TZID=Europe/Budapest:20240503T140000
DTEND;TZID=Europe/Budapest:20240503T160000
DTSTAMP:20260423T012247
CREATED:20240423T080057Z
LAST-MODIFIED:20240423T081545Z
UID:35539-1714744800-1714752000@vgyke.com
SUMMARY:Gyere mesélj-Storytelling a klubnapon
DESCRIPTION:Van egy érdekes\, humoros\, nevettető\, vagy akár szomorú történeted? Gyere\, mondd el!
URL:https://vgyke.com/event/gyere-meselj-storytelling-a-klubnapon/
LOCATION:1093 FMK-Ferencvárosi Művelődési Központ Budapest Haller u. 27.
ORGANIZER;CN="Szalai Mikl%C3%B3sn%C3%A9":MAILTO:ferencvaros.szervezo@vgyke.com
END:VEVENT
BEGIN:VEVENT
DTSTART;TZID=Europe/Budapest:20240506T140000
DTEND;TZID=Europe/Budapest:20240506T163000
DTSTAMP:20260423T012247
CREATED:20240429T152540Z
LAST-MODIFIED:20240429T152833Z
UID:35606-1715004000-1715013000@vgyke.com
SUMMARY:Találkozás az egyesület új okoseszköz oktatójával a Rákosmenti klubon
DESCRIPTION:Csatlakozz hozzánk és ismerkedj meg Lakatos Melitta okoseszköz oktatónkkal\,aki bemutatja többek között a blindshell használatát is.
URL:https://vgyke.com/event/talalkozas-az-egyesulet-uj-okoseszkoz-oktatojaval-a-rakosmenti-klubon/
LOCATION:Rákoshegyi Közösségi Ház\, Kép u. 7-9
END:VEVENT
BEGIN:VEVENT
DTSTART;TZID=Europe/Budapest:20240508T130000
DTEND;TZID=Europe/Budapest:20240508T143000
DTSTAMP:20260423T012247
CREATED:20240429T133245Z
LAST-MODIFIED:20240429T133349Z
UID:35598-1715173200-1715178600@vgyke.com
SUMMARY:Látogatás az MVGYOSZ új székházában
DESCRIPTION:A résztvevők megismerkednek a felújított szolgáltató központtal.
URL:https://vgyke.com/event/latogatas-az-mvgyosz-uj-szekhazaban/
LOCATION:1146. Budapest\, Hermina út 47.
ORGANIZER;CN="J%C3%A1nosi Veronika":MAILTO:erzsebetvaros.szervezo@vgyke.com
END:VEVENT
BEGIN:VEVENT
DTSTART;TZID=Europe/Budapest:20240509T140000
DTEND;TZID=Europe/Budapest:20240509T160000
DTSTAMP:20260423T012247
CREATED:20240430T212053Z
LAST-MODIFIED:20240501T081751Z
UID:35610-1715263200-1715270400@vgyke.com
SUMMARY:Hangfürdő a pesterzsébeti Lámpás Klubon
DESCRIPTION:Kedves Tagok\, Kísérők és Érdeklődők! \nSzeretettel hívok Mindenkit májusi klubnapunkra\, melyen vendégünk lesz Krayné Faragó Zsuzsanna\, a Gong Akadémia hangmasszőre és gongoktatója.\nZsuzsa bevezet minket a tibeti hangtálak világába. Lehetőségünk nyílik a hangfürdő révén megtapasztalni a hangtálak által kibocsátott rezgések nyugtató\, stresszoldó hatását. \nA Klubnap időpontja: 2024. május 09. 14:00 \nHelyszín:Csili Művelődési Központ „B” épület (1201 Budapest Baross utca 55.) \nAz esemény ingyenes\, de regisztrációhoz kötött\, melynek határideje 2024. május 08.. 12:00 \nA helyszínen felvétel készül\, mely megtekinthető lesz a Közösség Lámpásai – pesterzsébeti látássérültek Klubja facebook oldalunkon\, melynek linkje:\nhttps://www.facebook.com/watch/ \nJelentkezni az alábbi elérhetőségeken keresztül lehet:\nE-mail: pesterzsebet.szervezo@vgyke.com\nMobil: 06301866328\n06704310445 \nVárok Mindenkit szeretettel
URL:https://vgyke.com/event/hangfurdo-a-pesterzsebeti-lampas-klubon/
LOCATION:Csili Művelődési Központ (1201 Budapest Baross utca 55.)
ORGANIZER;CN="Dudikn%C3%A9 R%C3%A1cz Andrea":MAILTO:pesterzsebet.szervezo@vgyke.com
END:VEVENT
BEGIN:VEVENT
DTSTART;TZID=Europe/Budapest:20240511T130000
DTEND;TZID=Europe/Budapest:20240511T150000
DTSTAMP:20260423T012247
CREATED:20240506T072437Z
LAST-MODIFIED:20240506T072437Z
UID:35631-1715432400-1715439600@vgyke.com
SUMMARY:Épületséta-Pesti Vigadó
DESCRIPTION:Idegenvezetés a Pesti Vigadó épületében\, épülettörténeti séta-ingyenes
URL:https://vgyke.com/event/epuletseta-pesti-vigado/
LOCATION:Budapest Vigadó tér 2. 1051
ORGANIZER;CN="Szalai Mikl%C3%B3sn%C3%A9":MAILTO:ferencvaros.szervezo@vgyke.com
END:VEVENT
BEGIN:VEVENT
DTSTART;TZID=Europe/Budapest:20240513T150000
DTEND;TZID=Europe/Budapest:20240513T170000
DTSTAMP:20260423T012247
CREATED:20240429T134516Z
LAST-MODIFIED:20240429T134516Z
UID:35604-1715612400-1715619600@vgyke.com
SUMMARY:A siketvakságról és a fogyatékosságunk elfogadásáról Kőbányán
DESCRIPTION:A résztvevők megvitatják fogyatékosságuk elfogadásával kapcsolatos meglátásaikat és megismerkednek a siketvaksággal kapcsolatos alapfogalmakkal.
URL:https://vgyke.com/event/a-siketvaksagrol-es-a-fogyatekossagunk-elfogadasarol-kobanyan/
LOCATION:Kőrösi Csoma Sándor Kőbányai Kulturális Központ (1105. Budapest\, Szent László tér 7-14)
ORGANIZER;CN="J%C3%A1nosi Veronika":MAILTO:erzsebetvaros.szervezo@vgyke.com
END:VEVENT
BEGIN:VEVENT
DTSTART;TZID=Europe/Budapest:20240516T140000
DTEND;TZID=Europe/Budapest:20240516T160000
DTSTAMP:20260423T012247
CREATED:20240429T134027Z
LAST-MODIFIED:20240429T134027Z
UID:35601-1715868000-1715875200@vgyke.com
SUMMARY:Május jeles napjairól Erzsébetvárosban
DESCRIPTION:A jelenlévők beszélgetnek a májusi jeles napok érdekességeiről.
URL:https://vgyke.com/event/majus-jeles-napjairol-erzsebetvarosban/
LOCATION:1072 Budapest\, Nagydiófa utca 34. (KlauDió Civil Központ)
ORGANIZER;CN="J%C3%A1nosi Veronika":MAILTO:erzsebetvaros.szervezo@vgyke.com
END:VEVENT
BEGIN:VEVENT
DTSTART;TZID=Europe/Budapest:20240517T100000
DTEND;TZID=Europe/Budapest:20240517T120000
DTSTAMP:20260423T012247
CREATED:20240508T133545Z
LAST-MODIFIED:20240508T133622Z
UID:35671-1715940000-1715947200@vgyke.com
SUMMARY:Kortárs írók nyomában - beszélgetés Szalay Miklósné Erdélyi Tündével
DESCRIPTION:Vendégünk Szalay Miklósné Erdélyi Tünde\, a VGYKE ferencvárosi közösségi civilszervezője\, író\, aki a Vakok és Gyengénlátók Jász-Nagykun-Szolnok megyei Egyesülete által kiírt “Fények vakondja” irodalmi pályázaton 12. helyezést ért el.
URL:https://vgyke.com/event/kortars-irok-nyomaban-beszelgetes-szalay-miklosne-erdelyi-tundevel/
LOCATION:Békásmegyeri Közösségi Ház (1039 Budapest Csobánka tér 5.) I. emeleti kisterem
ORGANIZER;CN="R%C3%A1t%C3%B3ti Krisztina":MAILTO:kispest.szervezo@vgyke.com
END:VEVENT
BEGIN:VEVENT
DTSTART;TZID=Europe/Budapest:20240517T140000
DTEND;TZID=Europe/Budapest:20240517T160000
DTSTAMP:20260423T012247
CREATED:20240428T075204Z
LAST-MODIFIED:20240429T132909Z
UID:35590-1715954400-1715961600@vgyke.com
SUMMARY:Látogatás a Mafilmszinkronstudióban
DESCRIPTION:A résztvevők meghallgatják miként működik egy szinkron felvétele.
URL:https://vgyke.com/event/latogatas-a-mafilmszinkronstudioban/
LOCATION:1138. Budapest\, Vizafogó sétány 2. (masterfilm digital)
ORGANIZER;CN="J%C3%A1nosi Veronika":MAILTO:erzsebetvaros.szervezo@vgyke.com
END:VEVENT
BEGIN:VEVENT
DTSTART;TZID=Europe/Budapest:20240521T100000
DTEND;TZID=Europe/Budapest:20240521T120000
DTSTAMP:20260423T012247
CREATED:20240520T182911Z
LAST-MODIFIED:20240520T182911Z
UID:35796-1716285600-1716292800@vgyke.com
SUMMARY:Séta a Fővárosi Állatkertben
DESCRIPTION:Sok szeretettel várok Mindenkit májusi külsős programunkra\, mely keretében teszünk egy közös sétát a Fővárosi Állat és Növénykertben – megtekintve annak lakóit.
URL:https://vgyke.com/event/seta-a-fovarosi-allatkertben/
LOCATION:Fővárosi Állat és Növénykert (1146 Budapest Állatkerti krt. 6-12.)
ORGANIZER;CN="Dudikn%C3%A9 R%C3%A1cz Andrea":MAILTO:pesterzsebet.szervezo@vgyke.com
END:VEVENT
BEGIN:VEVENT
DTSTART;TZID=Europe/Budapest:20240521T190000
DTEND;TZID=Europe/Budapest:20240521T220000
DTSTAMP:20260423T012247
CREATED:20240516T073337Z
LAST-MODIFIED:20240516T073407Z
UID:35757-1716318000-1716328800@vgyke.com
SUMMARY:Audionarrált színházi előadás megtekintése
DESCRIPTION:Az előadás címe: MARC CAMOLETTI: BOEING\, BOEING – LESZÁLLÁS PÁRIZSBAN\, hossza 145 perc egy szünettel. Audionarrátor: Seres Edit.\nA programon való részvétel önköltséges\, jegyek korlátozott számban kaphatók a jelentkezés sorrendjében\, ára: 4500 Ft/db.
URL:https://vgyke.com/event/audionarralt-szinhazi-eloadas-megtekintese-7/
LOCATION:Thália Színház\, Nagymező utca 22-24.\, Budapest\, 1065
ORGANIZER;CN="P%C3%A1zm%C3%A1n Krisztina":MAILTO:18.kerulet.szervezo@vgyke.com
END:VEVENT
BEGIN:VEVENT
DTSTART;TZID=Europe/Budapest:20240522T100000
DTEND;TZID=Europe/Budapest:20240522T140000
DTSTAMP:20260423T012247
CREATED:20240520T183834Z
LAST-MODIFIED:20240520T183834Z
UID:35799-1716372000-1716386400@vgyke.com
SUMMARY:Festőház és Aquincumi Látványraktár megtekintése
DESCRIPTION:Aquincumi múzeumlátogatás
URL:https://vgyke.com/event/festohaz-es-aquincumi-latvanyraktar-megtekintese/
LOCATION:BTM AQUINCUMI MÚZEUM ÉS RÉGÉSZETI PARK 1031 Budapest\, Szentendrei út 135.
ORGANIZER;CN="Majl%C3%A1th M%C3%B3nika":MAILTO:angyalfold.szervezo@vgyke.com
END:VEVENT
BEGIN:VEVENT
DTSTART;TZID=Europe/Budapest:20240522T130000
DTEND;TZID=Europe/Budapest:20240522T143000
DTSTAMP:20260423T012247
CREATED:20240508T133937Z
LAST-MODIFIED:20240508T134010Z
UID:35674-1716382800-1716388200@vgyke.com
SUMMARY:Ismerjük meg a Sipeki-Villát!
DESCRIPTION:A Magyar Vakok és Gyengénlátók Országos Szövetsége megújult székházát járjuk be\, ez által alkalmunk lesz közelebbről is megismerni az egykori Sipeki-Villát.
URL:https://vgyke.com/event/ismerjuk-meg-a-sipeki-villat/
LOCATION:1146 Budapest Hermina út 47.
ORGANIZER;CN="R%C3%A1t%C3%B3ti Krisztina":MAILTO:kispest.szervezo@vgyke.com
END:VEVENT
BEGIN:VEVENT
DTSTART;TZID=Europe/Budapest:20240523T100000
DTEND;TZID=Europe/Budapest:20240523T103000
DTSTAMP:20260423T012247
CREATED:20240515T180557Z
LAST-MODIFIED:20240515T180557Z
UID:35751-1716458400-1716460200@vgyke.com
SUMMARY:2. kerület májusi online lámpás klub
DESCRIPTION:Éljenek az Édesanyák\, és a Nagymamák! Május első vasárnapja egy csodálatos ünnep\, az Édesanyák napja! Ennek apropójából beszélgetek Dudikné Rácz Andreával\, aki látássérültként vált édesanyává\, így tapasztalatból tud nekünk mesélni őszintén a látássérült anyaság szépségeiről\, örömeiről\, és az olykor felmerülő problémákról\, valamint azok megoldásairól.
URL:https://vgyke.com/event/2-kerulet-majusi-online-lampas-klub/
LOCATION:https://www.facebook.com/KozossegLampasaiMasodikKerulet
ORGANIZER;CN="T%C3%B6r%C3%B6k-Zselensky Eszter":MAILTO:2.kerulet.szervezo@vgyke.com
END:VEVENT
BEGIN:VEVENT
DTSTART;TZID=Europe/Budapest:20240523T160000
DTEND;TZID=Europe/Budapest:20240523T163000
DTSTAMP:20260423T012247
CREATED:20240516T071917Z
LAST-MODIFIED:20240516T071917Z
UID:35753-1716480000-1716481800@vgyke.com
SUMMARY:Hegyvidék májusi online lámpás klub
DESCRIPTION:Legfontosabb az egészségünk! A magas vérnyomás (hipertónia) világnapja: május 17. Ennek apropójából kaphatunk információkat arról\, hogy mit jelent a magas vérnyomás\, mik a tünetei\, és hogyan tudjuk megelőzni azt.
URL:https://vgyke.com/event/hegyvidek-majusi-online-lampas-klub/
ORGANIZER;CN="T%C3%B6r%C3%B6k-Zselensky Eszter":MAILTO:2.kerulet.szervezo@vgyke.com
END:VEVENT
BEGIN:VEVENT
DTSTART;TZID=Europe/Budapest:20240524T160000
DTEND;TZID=Europe/Budapest:20240524T170000
DTSTAMP:20260423T012247
CREATED:20240523T062630Z
LAST-MODIFIED:20240523T062630Z
UID:35813-1716566400-1716570000@vgyke.com
SUMMARY:Meghívó a XVI. kerület online klubjára
DESCRIPTION:Áprilisban egy különleges vendéget invitáltunk meg a XVI. kerületi lámpás klubra: Benedek Ágnes\, a Kertvárosi Időutazó látogatott el hozzánk.\nA kertvárosi Időutazó különlegessége\, hogy a XVI. kerületben szervez városnéző sétákat\, mely séták során a résztvevők mintegy átszelik az időt Ágnes izgalmas\, régi történetei által.\nHa kíváncsiak vagytok rá\, de nem tudtatok eljönni áprilisi klubnapunkra\, szomorkodni semmi ok: május 24-én\, pénteken online klubunk keretében ízelítőt kaphattok a klubon elhangzottakból!
URL:https://vgyke.com/event/meghivo-a-xvi-kerulet-online-klubjara/
LOCATION:https://www.facebook.com/lampas16bp/
ORGANIZER;CN="Czag%C3%A1ny Izabella":MAILTO:16.kerulet.szervezo@vgyke.com
END:VEVENT
BEGIN:VEVENT
DTSTART;TZID=Europe/Budapest:20240527T150000
DTEND;TZID=Europe/Budapest:20240527T163000
DTSTAMP:20260423T012247
CREATED:20240523T062949Z
LAST-MODIFIED:20240523T062949Z
UID:35816-1716822000-1716827400@vgyke.com
SUMMARY:Májusi klub: nyári tervek és ötletek
DESCRIPTION:Hamarosan itt a nyár\, közeleg a szép idő. \nMost\, hogy lassan elérkezünk a 2024-es év feléhez\, itt az ideje\, hogy ismét tartsunk egy beszélgetős\, évtervezős klubnapot. Egy finom tea és sütemény mellett átbeszélhetjük nyári programjainkat\, terveinket. Mivel ebben az időszakban sokan utaznak el\, megpróbáljuk úgy megszervezni nyári klubnapjainkat és kirándulásainkat\, hogy azokra mindenki eljuthasson! \nTi hozzátok az ötleteiteket és a jókedveteket\, a többit bízzátok ránk! \nKérjük\, amennyiben ismersz olyat\, aki szívesen segítené önkéntesként klubjaink és programjaink lebonyolítását (főképp kísérésben)\, ajánlj neki minket! \nAz esemény Facebook-linkje:\nhttps://www.facebook.com/events/536024608958329/ \n 
URL:https://vgyke.com/event/majusi-klub-nyari-tervek-es-otletek/
LOCATION:Napraforgó Család- és Gyermekjóléti Központ (1163 Budapest\, Cziráki utca 22.) I. emelet klubterem
ORGANIZER;CN="Czag%C3%A1ny Izabella":MAILTO:16.kerulet.szervezo@vgyke.com
END:VEVENT
BEGIN:VEVENT
DTSTART;TZID=Europe/Budapest:20240527T150000
DTEND;TZID=Europe/Budapest:20240527T170000
DTSTAMP:20260423T012247
CREATED:20240520T184550Z
LAST-MODIFIED:20240520T184550Z
UID:35801-1716822000-1716829200@vgyke.com
SUMMARY:A vakvezető kutyák élete a munkán kívül
DESCRIPTION:Aquincumi múzeumlátogatás
URL:https://vgyke.com/event/a-vakvezeto-kutyak-elete-a-munkan-kivul/
LOCATION:Prevenciós Központ 1134. Budapest\, Tüzér u. 56-58.
ORGANIZER;CN="Majl%C3%A1th M%C3%B3nika":MAILTO:angyalfold.szervezo@vgyke.com
END:VEVENT
BEGIN:VEVENT
DTSTART;TZID=Europe/Budapest:20240528T093000
DTEND;TZID=Europe/Budapest:20240528T120000
DTSTAMP:20260423T012247
CREATED:20240507T155330Z
LAST-MODIFIED:20240507T155330Z
UID:35668-1716888600-1716897600@vgyke.com
SUMMARY:Meghívó a VGYKE 2024. évi Közgyűlésére
DESCRIPTION:A Vakok és Gyengénlátók Közép-Magyarországi Regionális Egyesülete (VGYKE) a VGYKE elnökségének 10/2024. számú határozata alapján 2024. május 28-án 9.30-tól 12.00 óráig közgyűlést tart\, melyre szeretettel várjuk minden kedves tagtársunkat és kísérőjét!\nHelyszín: Zuglói Civilház\nCím: 1144 Budapest Csertő park 12. (megközelíthető: Őrs vezér tértől 82-es trolibusz Vezér utca megálló) \nA közgyűlés napirendje:\n1. Elnöki köszöntő (Fodor Ágnes elnök)\n2. Felügyelő Bizottság 2023. évi beszámolójának elfogadása\n3. A VGYKE 2023. évi beszámolójának és közhasznúsági mellékleteinek elfogadása\n4. 2025. évi tagdíj meghatározása (felnőtt 3000 Ft\, gyermek 600 Ft)\n5. A VGYKE jelölőbizottságának bemutatkozása és megbízás\n6. Egyebek \nAmennyiben a taggyűlés 9.30-kor nem határozatképes\, úgy azt az Egyesületi Alapszabály IV. fejezet 1/8. pontjában leírtak szerint 30 perccel később a jelenlévő tagság létszámától függetlenül megtartja.\nA közgyűlésen való részvételt a Civilház kristálytermében regisztráció előzi meg\, ahol ellenőrzésre kerül a tagsági jogviszony és a 2024. évi tagdíj befizetése\, ezért valamennyi tagtársunkat kérjük\, hogy feltétlenül hozza magával tagsági könyvét! A helyszínen is lehetőséget biztosítunk a tagdíjjak befizetésére.\nA VGYKE a közgyűlésen minden tagtárs és résztvevő személy számára szendvicsebédet és ásványvizet biztosít. \nKérjük\, tiszteljen meg bennünket megjelenésével! Önt és családját\, kísérőjét is nagy szeretettel várjuk! Részvételére feltétlenül számítunk! \nBudapest\, 2024. március 25. \nFodor Ágnes\nelnök
URL:https://vgyke.com/event/meghivo-a-vgyke-2024-evi-kozgyulesere/
LOCATION:Zuglói Civilház – 1144 Budapest Csertő park 12. (megközelíthető: Őrs vezér tértől 82-es trolibusz Vezér utca megálló)
END:VEVENT
BEGIN:VEVENT
DTSTART;TZID=Europe/Budapest:20240529T150000
DTEND;TZID=Europe/Budapest:20240529T170000
DTSTAMP:20260423T012247
CREATED:20240516T072757Z
LAST-MODIFIED:20240516T073906Z
UID:35755-1716994800-1717002000@vgyke.com
SUMMARY:Májusi klubnap
DESCRIPTION:Vendégünk lesz Keviczky Csilla rendőr hadnagy a BRFK XVIII. Kerületi Rendőrkapitányság munkatársa. Beszélgetni fogunk a közbiztonságról\, az előforduló csalásokról\, bűnesetekről és természetesen ezek elkerülésének esélyét csökkentő módszerekről.\nMegemlékezünk klubunk fennállásának évfordulójáról is egy kis játékkal és sütivel.
URL:https://vgyke.com/event/majusi-klubnap/
LOCATION:Kondor Béla Közösségi Ház\, Kondor Béla sétány 8.\, Budapest\, 1181
ORGANIZER;CN="P%C3%A1zm%C3%A1n Krisztina":MAILTO:18.kerulet.szervezo@vgyke.com
END:VEVENT
BEGIN:VEVENT
DTSTART;TZID=Europe/Budapest:20240530T150000
DTEND;TZID=Europe/Budapest:20240530T163000
DTSTAMP:20260423T012247
CREATED:20240523T063404Z
LAST-MODIFIED:20240523T063404Z
UID:35818-1717081200-1717086600@vgyke.com
SUMMARY:Nyárindító fagylaltozás a Habcsók Cukrászdában
DESCRIPTION:Napjainkban\, beleveszve egyre bokrosabb teendőinkbe a mind szűkebb határidők szorításában\, szinte észrevétlenül szalad az idő – mintha csak tegnap ünnepeltük volna az új évet\, és lám: régen elvirágzott nemhogy a mandula\, de az orgona is… Maholnap megérkezik a nyár! Hozza melegét\, fényét\, programjait… mi viszont\, ha nem figyelünk\, bizony könnyen fenyőfa-díszítésen kaphatjuk magunkat\, várva a következő nyarat\, amin aztán megint átszaladunk\, mert a hőségben már a tél hiányozna\, amikor megint a nyár után sóhajtozhatunk… Örök körforgás lehet ez\, amelybe igen könnyű belecsúszni a mókuskerék gályapadján csákányozva.\nEzért úgy döntöttünk: itt az ideje leülni\, és egy fagylalt\, sütemény\, jegeskávé mellett szánni egy órát a pihenésre\, feltöltődésre – nem mellesleg megnyitni a fagyiszezont\, ha eddig nem tettük volna meg! Ha szeretnél csatlakozni hozzánk\, téged is várunk a XVI. kerület egyik méltán híres cukrászdájába\, a Habcsókba! \nAmennyiben velünk tartasz\, 2024.05.29. 16:00-ig jelentkezz lenti elérhetőségeink valamelyikén! („Ott leszek” jelölése a Facebook-eseménynél önmagában nem minősül jelentkezésnek; ha számodra az a platform lenne a legkényelmesebb\, pár szót írj mellé nekünk privát üzenetben!) A program önköltséges.\nTalálkozó: 14:30-kor az Örs vezér tere M2 kijárattal szemben lévő kürtöskalácsos előtt \nEsetleges további részletek Facebook-eseményünkben olvashatóak\, mely Facebook-fiók megléte nélkül is megtekinthető:\nhttps://www.facebook.com/events/656041986712770/ \nVárunk szeretettel!
URL:https://vgyke.com/event/nyarindito-fagylaltozas-a-habcsok-cukraszdaban/
LOCATION:Habcsók Cukrászda (1165 Budapest\,  Újszász u. 45/b.)
ORGANIZER;CN="Czag%C3%A1ny Izabella":MAILTO:16.kerulet.szervezo@vgyke.com
END:VEVENT
BEGIN:VEVENT
DTSTART;TZID=Europe/Budapest:20240603T140000
DTEND;TZID=Europe/Budapest:20240603T163000
DTSTAMP:20260423T012247
CREATED:20240528T072937Z
LAST-MODIFIED:20240528T073345Z
UID:35834-1717423200-1717432200@vgyke.com
SUMMARY:"Kutyául vagyunk"
DESCRIPTION:Csatlakozz klubunkhoz és ismerkedj meg tagtársunkkal\, aki friss kutyagazda és megosztja velünk a kutytartással kapcsolatos élményeit és tapasztalatait.
URL:https://vgyke.com/event/kutyaul-vagyunk/
END:VEVENT
BEGIN:VEVENT
DTSTART;TZID=Europe/Budapest:20240607T140000
DTEND;TZID=Europe/Budapest:20240607T160000
DTSTAMP:20260423T012247
CREATED:20240529T073528Z
LAST-MODIFIED:20240529T073629Z
UID:35849-1717768800-1717776000@vgyke.com
SUMMARY:Klubnap
DESCRIPTION:El-Camino-A lélek útja-élménybeszámoló a zarándokútról – Bagi Rea
URL:https://vgyke.com/event/klubnap-20/
LOCATION:Ferencvárosi Művelődési Központ FMK Budapest Haller u. 27. 1093
ORGANIZER;CN="Szalai Mikl%C3%B3sn%C3%A9":MAILTO:ferencvaros.szervezo@vgyke.com
END:VEVENT
BEGIN:VEVENT
DTSTART;TZID=Europe/Budapest:20240613T140000
DTEND;TZID=Europe/Budapest:20240613T160000
DTSTAMP:20260423T012247
CREATED:20240604T190359Z
LAST-MODIFIED:20240604T190359Z
UID:35879-1718287200-1718294400@vgyke.com
SUMMARY:Szülinap - egy éves a pesterzsébeti Lámpás Klub
DESCRIPTION:Kedves Tagok\, Kísérők és Érdeklődők! \nSok szeretettel meghívok Mindenkit a pesterzsébeti Lámpás Klub megalakulásának egy éves évfordulója alkalmából megrendezésre kerülő ünnepségre\, mely során Horváthné Dunaveczki Leona gondoskodik a jó hangulatról.\nAz ünnepség zárásaként egy kis megvendégeléssel kedveskedünk a jelenlévőknek. \nA rendezvény időpontja: 2024. június 13. 14:00 \nHelyszín:Csili Művelődési Központ „B” épület (1201 Budapest Baross utca 55.) \nAz esemény ingyenes\, de regisztrációhoz kötött\, melynek határideje 2024. június 11. 12:00 \nA helyszínen felvétel készül\, mely megtekinthető lesz a Közösség Lámpásai – pesterzsébeti látássérültek Klubja facebook oldalunkon\, melynek linkje:\nhttps://www.facebook.com/watch/ \nJelentkezni az alábbi elérhetőségeken keresztül lehet:\nE-mail: pesterzsebet.szervezo@vgyke.com\nMobil: 06301866328\n06704310445 \nVárok Mindenkit szeretettel!
URL:https://vgyke.com/event/szulinap-egy-eves-a-pesterzsebeti-lampas-klub/
LOCATION:Csili Művelődési Központ (1201 Budapest Baross utca 55.)
ORGANIZER;CN="Dudikn%C3%A9 R%C3%A1cz Andrea":MAILTO:pesterzsebet.szervezo@vgyke.com
END:VEVENT
BEGIN:VEVENT
DTSTART;TZID=Europe/Budapest:20240617T150000
DTEND;TZID=Europe/Budapest:20240617T163000
DTSTAMP:20260423T012247
CREATED:20240610T091534Z
LAST-MODIFIED:20240610T091534Z
UID:35949-1718636400-1718641800@vgyke.com
SUMMARY:Eberésszünk!
DESCRIPTION:Az általánosan elfogadott elmélet szerint vannak „kutyás” emberek és vannak „macskás” emberek – no meg azok\, akiket hidegen hagynak holmi skatulyák\, és egyként szeretik vagy kerülik mindkettőt. Abban viszont mindenki egyetért: bundás barátaink nélkül bizony sivár lenne az élet!\nJúniusi klubunkon az ebeké lesz a főszerep. Különösen egy bizonyos munkakutyáé\, akit akár naponta láthatunk jellegzetes hámjában\, amint látássérült gazdájának segít megküzdeni a nagyvárosi közlekedés olykor igencsak szó szerint értendő buktatóival. (Miközben\, bár munkája hatalmas koncentrációt igényel\, azért a gazdi övén függő jutalomfalatos táskát is képes szemmel tartani. Hiába\, szuperkutya!)\nBizonyára kitaláltad már: júniusi klubunk címerállata a vakvezető kutya\, vendégünk pedig Török-Zselenszky Eszter\, aki magával hozza Unót\, a fiatal fekete labradort is.\nVajon jelent-e a kutyának bármit is a vakvezető hám\, amit magán hord? Egyáltalán\, miben tér az el bármely más hámtól? Mit tegyél\, ha kutyával közlekedő látássérült kér tőled segítséget? Hogyan telnek a kutya napjai\, amikor épp nem dolgozik? Vajon ő is képes kiégni? Még ezernyi kérdést lehetne feltenni… Ha egyetértesz\, és kíváncsi vagy a válaszokra\, látogass el klubunkra\, ahol egy süti\, üdítő mellett beszélgetve még sokkal többet is megtudhatsz Esztertől! \nAz esemény Facebook-linkje:\nhttps://www.facebook.com/share/Yb49YV1rLQuE9Q2L/ \nVárunk szeretettel!
URL:https://vgyke.com/event/eberesszunk/
LOCATION:Napraforgó Család- és Gyermekjóléti Központ (1163 Budapest\, Cziráki utca 22.) I. emelet klubterem
ORGANIZER;CN="Czag%C3%A1ny Izabella":MAILTO:16.kerulet.szervezo@vgyke.com
END:VEVENT
BEGIN:VEVENT
DTSTART;TZID=Europe/Budapest:20240620T100000
DTEND;TZID=Europe/Budapest:20240620T103000
DTSTAMP:20260423T012247
CREATED:20240606T152659Z
LAST-MODIFIED:20240606T152928Z
UID:35937-1718877600-1718879400@vgyke.com
SUMMARY:2. kerület júniusi online lámpás klub
DESCRIPTION:Hogyan óvjuk vakvezető kutyáinkat a nyári nagy melegben? Júniusban már elég meleg napokat élünk\, gyakoriak a 25-30 fokos napközbeni csúcshőmérsékletek is. Júliusban\, és augusztusban ettől csak még melegebbre\, és akár hetekig tartó kánikulákra is számíthatunk.\nA több napig tartó meleg az állatokat is megviseli\, ezért fokozottan kell figyelnünk kedvenceink ellátására.\nEhhez kaphatunk ötleteket\, tippeket\, hogy a nagy melegben hogyan óvjuk vakvezető kutyáinkat.
URL:https://vgyke.com/event/2-kerulet-juniusi-online-lampas-klub/
LOCATION:https://www.facebook.com/KozossegLampasaiMasodikKerulet
ORGANIZER;CN="T%C3%B6r%C3%B6k-Zselensky Eszter":MAILTO:2.kerulet.szervezo@vgyke.com
END:VEVENT
BEGIN:VEVENT
DTSTART;TZID=Europe/Budapest:20240620T140000
DTEND;TZID=Europe/Budapest:20240620T160000
DTSTAMP:20260423T012247
CREATED:20240617T144734Z
LAST-MODIFIED:20240617T144820Z
UID:36007-1718892000-1718899200@vgyke.com
SUMMARY:A nyári frissítőkről Erzsébetvárosban
DESCRIPTION:A résztvevők megismerik a nyári frissítők történetét.
URL:https://vgyke.com/event/a-nyari-frissitokrol-erzsebetvarosban/
LOCATION:1072 Budapest\, Nagydiófa utca 34. (KlauDió Civil Központ)
ORGANIZER;CN="J%C3%A1nosi Veronika":MAILTO:erzsebetvaros.szervezo@vgyke.com
END:VEVENT
END:VCALENDAR