BEGIN:VCALENDAR
VERSION:2.0
PRODID:-//Vakok és Gyengénlátók Közép-Magyarországi Regionális Egyesülete - ECPv6.15.20//NONSGML v1.0//EN
CALSCALE:GREGORIAN
METHOD:PUBLISH
X-ORIGINAL-URL:https://vgyke.com
X-WR-CALDESC:Események Vakok és Gyengénlátók Közép-Magyarországi Regionális Egyesülete
REFRESH-INTERVAL;VALUE=DURATION:PT1H
X-Robots-Tag:noindex
X-PUBLISHED-TTL:PT1H
BEGIN:VTIMEZONE
TZID:Europe/Budapest
BEGIN:DAYLIGHT
TZOFFSETFROM:+0100
TZOFFSETTO:+0200
TZNAME:CEST
DTSTART:20230326T010000
END:DAYLIGHT
BEGIN:STANDARD
TZOFFSETFROM:+0200
TZOFFSETTO:+0100
TZNAME:CET
DTSTART:20231029T010000
END:STANDARD
BEGIN:DAYLIGHT
TZOFFSETFROM:+0100
TZOFFSETTO:+0200
TZNAME:CEST
DTSTART:20240331T010000
END:DAYLIGHT
BEGIN:STANDARD
TZOFFSETFROM:+0200
TZOFFSETTO:+0100
TZNAME:CET
DTSTART:20241027T010000
END:STANDARD
BEGIN:DAYLIGHT
TZOFFSETFROM:+0100
TZOFFSETTO:+0200
TZNAME:CEST
DTSTART:20250330T010000
END:DAYLIGHT
BEGIN:STANDARD
TZOFFSETFROM:+0200
TZOFFSETTO:+0100
TZNAME:CET
DTSTART:20251026T010000
END:STANDARD
END:VTIMEZONE
BEGIN:VEVENT
DTSTART;TZID=Europe/Budapest:20240731T100000
DTEND;TZID=Europe/Budapest:20240731T103000
DTSTAMP:20260422T235844
CREATED:20240802T110119Z
LAST-MODIFIED:20240802T110153Z
UID:36291-1722420000-1722421800@vgyke.com
SUMMARY:Budavár online klub
DESCRIPTION:Győző Ákos Tiborral beszélgetünk\, aki jártas a filmkészítés világában. Számára hobby a segítő állatokról  dokumentumfilmeket készíteni és új elhatározásáról mesélt\, miszerint belevágna egy vakvezető kutyákról szóló film elkészítésébe.
URL:https://vgyke.com/event/budavar-online-klub/
END:VEVENT
BEGIN:VEVENT
DTSTART;TZID=Europe/Budapest:20240801T140000
DTEND;TZID=Europe/Budapest:20240801T153000
DTSTAMP:20260422T235844
CREATED:20240726T062751Z
LAST-MODIFIED:20240726T062751Z
UID:36270-1722520800-1722526200@vgyke.com
SUMMARY:Mindent a kéznek - tapintható fotókiállítás
DESCRIPTION:Tarts velünk egy különleges kiállításra\, ahol szavak\, hangok és tapintás segítségével szerezhetsz különleges élményeket fotókról
URL:https://vgyke.com/event/mindent-a-keznek-tapinthato-fotokiallitas/
LOCATION:Óbudai Múzeum Lajos U. 136-138.
END:VEVENT
BEGIN:VEVENT
DTSTART;TZID=Europe/Budapest:20240805T140000
DTEND;TZID=Europe/Budapest:20240805T163000
DTSTAMP:20260422T235844
CREATED:20240729T163121Z
LAST-MODIFIED:20240729T163121Z
UID:36275-1722866400-1722875400@vgyke.com
SUMMARY:Gyorsabban\, magasabban\, erősebben\, avagy\, minden\, amit az Olimpiáról tudni érdemes
DESCRIPTION:Szereted a sportot\, rajongsz az olimpiáért? Ha igen\, akkor csatlakozz klubnapunkhoz\, ahol sok érdekes dolgot tudhatsz meg az ötkarikás játékokról és fogadhatunk az aranyérmek számára is.
URL:https://vgyke.com/event/gyorsabban-magasabban-erosebben-avagy-minden-amit-az-olimpiarol-tudni-erdemes/
END:VEVENT
BEGIN:VEVENT
DTSTART;TZID=Europe/Budapest:20240808T180000
DTEND;TZID=Europe/Budapest:20240808T190000
DTSTAMP:20260422T235844
CREATED:20240805T172010Z
LAST-MODIFIED:20240805T172010Z
UID:36298-1723140000-1723143600@vgyke.com
SUMMARY:Kerületünkről Erzsébetvárosban
DESCRIPTION:A nézők megismerkednek a VII. kerület kialakulásának történetével.
URL:https://vgyke.com/event/keruletunkrol-erzsebetvarosban-2/
LOCATION:https://www.facebook.com/kozosseglampasaierzsebetvaros
ORGANIZER;CN="J%C3%A1nosi Veronika":MAILTO:erzsebetvaros.szervezo@vgyke.com
END:VEVENT
BEGIN:VEVENT
DTSTART;TZID=Europe/Budapest:20240808T180000
DTEND;TZID=Europe/Budapest:20240808T220000
DTSTAMP:20260422T235844
CREATED:20240829T152511Z
LAST-MODIFIED:20240829T152511Z
UID:36436-1723140000-1723154400@vgyke.com
SUMMARY:Álarcosbál-főpróba az Operaházban
DESCRIPTION:Az Operaházak legkedveltebb darabja\, mely a Kaméliás hölgy regénye nyomán íródott.
URL:https://vgyke.com/event/alarcosbal-foproba-az-operahazban/
LOCATION:Magyar Állami Operaház Budapest Andrássy u. 22. 1061
ORGANIZER;CN="Szalai Mikl%C3%B3sn%C3%A9":MAILTO:ferencvaros.szervezo@vgyke.com
END:VEVENT
BEGIN:VEVENT
DTSTART;TZID=Europe/Budapest:20240809T140000
DTEND;TZID=Europe/Budapest:20240809T160000
DTSTAMP:20260422T235844
CREATED:20240806T102913Z
LAST-MODIFIED:20240806T102913Z
UID:36300-1723212000-1723219200@vgyke.com
SUMMARY:A hangtálak varázsa-a tibeti hangtálak megnyugtató varázsa
DESCRIPTION:2024. augusztus 9-i klubnapunkon a Tibeti hangtálakkal ismerkedünk meg.\nA zene mióta ember él a földön\, jelen van az életünkben. a zenehallgatás csökkenti a vérnyomást és a pulzusszámot\, és a stresszhormonok\, például a kortizol szintjét. Ezzel ellentétesen pedig növeli a szerotonin\, a dopamin és az endorfin\, az úgynevezett boldogsághormonok mennyiségét a vérben.\nA tibeti hangtálak harmonikus hangzása az agyféltekék mély ellazulását idézik elő. A hangterápia hozzájárul a sikeres stresszekezeléshez. Az érzelmek nyugodtabbá\, az elme tisztábbá válik. Ez az oka annak\, hogy a tálak szép lassan eljutottak a Himalájából hangterápiás központokba\, jógastúdiókba\, de már az otthonokba is. \nA hangtálbemutatót tartja: Németh László
URL:https://vgyke.com/event/a-hangtalak-varazsa-a-tibeti-hangtalak-megnyugtato-varazsa/
LOCATION:Ferencvárosi Művelődési Központ (FMK) Budapest Haller u. 27. 1093
ORGANIZER;CN="Szalai Mikl%C3%B3sn%C3%A9":MAILTO:ferencvaros.szervezo@vgyke.com
END:VEVENT
BEGIN:VEVENT
DTSTART;TZID=Europe/Budapest:20240817T080000
DTEND;TZID=Europe/Budapest:20240817T160000
DTSTAMP:20260422T235844
CREATED:20240806T134103Z
LAST-MODIFIED:20240806T134103Z
UID:36305-1723881600-1723910400@vgyke.com
SUMMARY:Tordas westernfalu
DESCRIPTION:Már sráckoromban a vadnyugatról álmodoztam én—és igen\, valóra válhat\, egy időutazás keretében. Rodeo bika? Igen! Aranymosás? Igen! Vadnyugati szabadulószoba? Igen!
URL:https://vgyke.com/event/tordas-westernfalu/
LOCATION:Tordas westernfalu
ORGANIZER;CN="Szalai Mikl%C3%B3sn%C3%A9":MAILTO:ferencvaros.szervezo@vgyke.com
END:VEVENT
BEGIN:VEVENT
DTSTART;TZID=Europe/Budapest:20240822T100000
DTEND;TZID=Europe/Budapest:20240822T103000
DTSTAMP:20260422T235844
CREATED:20240806T134853Z
LAST-MODIFIED:20240806T134853Z
UID:36310-1724320800-1724322600@vgyke.com
SUMMARY:2. kerület augusztus online lámpás klub
DESCRIPTION:Visszatekintés az elmúlt 10 hónapra…Eltelt 10 hónap\, mióta elindult velem a 2. kerület online Lámpás Klubja. Ebben a hónapban egy összefoglalást\, és kedvcsinálót hallgathattok meg az eddigi klub alkalmakról.
URL:https://vgyke.com/event/2-kerulet-augusztus-online-lampas-klub/
LOCATION:https://www.facebook.com/KozossegLampasaiMasodikKerulet
ORGANIZER;CN="T%C3%B6r%C3%B6k-Zselensky Eszter":MAILTO:2.kerulet.szervezo@vgyke.com
END:VEVENT
BEGIN:VEVENT
DTSTART;TZID=Europe/Budapest:20240822T160000
DTEND;TZID=Europe/Budapest:20240822T163000
DTSTAMP:20260422T235844
CREATED:20240806T134410Z
LAST-MODIFIED:20240806T134410Z
UID:36308-1724342400-1724344200@vgyke.com
SUMMARY:Hegyvidék augusztusi online lámpás klub
DESCRIPTION:Nosztalgiázás az elmúlt 10 hónapról… A nyári nagy melegben jólesik egy kis nosztalgiázás az elmúlt időszak klub alkalmainak a felidézésével. Miről is szólt a decemberi\, vagy a márciusi klub alkalmunk? Emlékeztek még? Ha nem\, vagy csak szeretnétek újra valamelyik alkalmunkat újra meghallgatni és ehhez egy kis kedvcsinálóra van szükségetek\, akkor ne hagyjátok ki a mostani online klubunkat sem!
URL:https://vgyke.com/event/hegyvidek-augusztusi-online-lampas-klub/
LOCATION:https://www.facebook.com/KozossegLampasaiHegyvidek
ORGANIZER;CN="T%C3%B6r%C3%B6k-Zselensky Eszter":MAILTO:2.kerulet.szervezo@vgyke.com
END:VEVENT
BEGIN:VEVENT
DTSTART;TZID=Europe/Budapest:20240830T170000
DTEND;TZID=Europe/Budapest:20240830T173000
DTSTAMP:20260422T235844
CREATED:20240828T060222Z
LAST-MODIFIED:20240828T060222Z
UID:36389-1725037200-1725039000@vgyke.com
SUMMARY:Augusztusi online klub Józsefváros
DESCRIPTION:Fókuszban a csillagászat az aktuális híreink mellett.
URL:https://vgyke.com/event/augusztusi-online-klub-jozsefvaros/
LOCATION:A kerület Facebook oldala: https://www.facebook.com/kozosseglampasaijozsefvaros
ORGANIZER;CN="Horv%C3%A1thn%C3%A9 Dunaveczki Leona":MAILTO:jozsefvaros.szervezo@vgyke.com
END:VEVENT
BEGIN:VEVENT
DTSTART;TZID=Europe/Budapest:20240902T140000
DTEND;TZID=Europe/Budapest:20240902T143000
DTSTAMP:20260422T235844
CREATED:20240829T152020Z
LAST-MODIFIED:20240829T152020Z
UID:36434-1725285600-1725287400@vgyke.com
SUMMARY:Zeneterápiás foglalkozás a rákosmenti klubon
DESCRIPTION:Szereted a zenét? Ha igen\, akkor tarts velünk a rákosmenti klubnapra! Egy zeneterapeuta segítségével megismerkedhetünk néhány egyszerű hangszerrel
URL:https://vgyke.com/event/zeneterapias-foglalkozas-a-rakosmenti-klubon/
LOCATION:Rákoshegyi Közösségi Ház\, Kép u. 7-9
END:VEVENT
BEGIN:VEVENT
DTSTART;TZID=Europe/Budapest:20240906T180000
DTEND;TZID=Europe/Budapest:20240906T200000
DTSTAMP:20260422T235844
CREATED:20240903T080828Z
LAST-MODIFIED:20240903T080828Z
UID:36449-1725645600-1725652800@vgyke.com
SUMMARY:Faludy irodalmi est
DESCRIPTION:Faludy György életművéből készült mondodráma Kurucz Ádám Konrád Latinovits díjas előadóművész tolmácsolásában
URL:https://vgyke.com/event/faludy-irodalmi-est/
LOCATION:K&F Galéria & Pub  Budapest Kosztolányi Dezső tér 11
ORGANIZER;CN="Szalai Mikl%C3%B3sn%C3%A9":MAILTO:ferencvaros.szervezo@vgyke.com
END:VEVENT
BEGIN:VEVENT
DTSTART;TZID=Europe/Budapest:20240909T100000
DTEND;TZID=Europe/Budapest:20240909T160000
DTSTAMP:20260422T235844
CREATED:20240904T074155Z
LAST-MODIFIED:20240904T074155Z
UID:36465-1725876000-1725897600@vgyke.com
SUMMARY:Szeptemberi strandolás
DESCRIPTION:Vége a nyárnak\, de a meleg még tart\, ezért egy szezonzáró strandolás még jól esik bárkinek.\nHozz magaddal törülközőt\, papucsot és ne hagyd otthon a fürdőruhádat sem!\nKerületi klubtagjaink számára a program ingyenes\, egyéb jelentkezőknek önköltséges. Kérlek\, részvételi szándékodat feltétlenül jelezd az alábbi elérhetőségek valamelyikén\, mivel az ingyenes férőhelyek száma korlátozott. Kísérőt is hozz magaddal\, ha szükséges\, mert nem tudunk biztosítani.\nSzeretettel várunk Mindenkit!
URL:https://vgyke.com/event/szeptemberi-strandolas/
LOCATION:Pesterzsébeti Jódos-Sós Gyógy- és Strandfürdő\, Vizisport utca 2.\, Budapest\, 1203
ORGANIZER;CN="P%C3%A1zm%C3%A1n Krisztina":MAILTO:18.kerulet.szervezo@vgyke.com
END:VEVENT
BEGIN:VEVENT
DTSTART;TZID=Europe/Budapest:20240909T150000
DTEND;TZID=Europe/Budapest:20240909T170000
DTSTAMP:20260422T235844
CREATED:20240904T073427Z
LAST-MODIFIED:20240904T073427Z
UID:36463-1725894000-1725901200@vgyke.com
SUMMARY:A Magyarországon együtt élő népek kapcsolatáról Trianon előtt
DESCRIPTION:A jelenlévők interaktív előadás részesei lehetnek a témával kapcsolatban\, Acsay Péter történelemtanár tolmácsolásában.
URL:https://vgyke.com/event/a-magyarorszagon-egyutt-elo-nepek-kapcsolatarol-trianon-elott/
LOCATION:Kőrösi Csoma Sándor Kőbányai Kulturális Központ (1105. Budapest\, Szent László tér 7-14)
ORGANIZER;CN="J%C3%A1nosi Veronika":MAILTO:erzsebetvaros.szervezo@vgyke.com
END:VEVENT
BEGIN:VEVENT
DTSTART;TZID=Europe/Budapest:20240911T140000
DTEND;TZID=Europe/Budapest:20240911T160000
DTSTAMP:20260422T235844
CREATED:20240902T184848Z
LAST-MODIFIED:20240902T185243Z
UID:36443-1726063200-1726070400@vgyke.com
SUMMARY:Klubnap
DESCRIPTION:Védekezzünk az adathalászok és az internetes csalók ellen
URL:https://vgyke.com/event/klubnap-21/
LOCATION:Zuglói Civil Ház  1144 Budapest\, Csertő park 12.
ORGANIZER;CN="Kiss M%C3%A1rta":MAILTO:zuglo.szervezo@vgyke.com
END:VEVENT
BEGIN:VEVENT
DTSTART;TZID=Europe/Budapest:20240912T140000
DTEND;TZID=Europe/Budapest:20240912T160000
DTSTAMP:20260422T235844
CREATED:20240910T080927Z
LAST-MODIFIED:20240910T080927Z
UID:36533-1726149600-1726156800@vgyke.com
SUMMARY:Láthatárbolt és ügyfélszolgálat a pesterzsébeti klubnapon
DESCRIPTION:Szeptemberi klubnapunk vendége ezúttal a Láthatár Bolt és az Ügyfélszolgálat képviseletében Németh Róbert\, aki bemutatja nekünk a bolt legújabb és legnépszerűbb termékeit\, valamint lehetőség nyílik a termékek megvásárlására\, illetve az éves tagdíj befizetésére is.\nAz MVGYOSZ igazolványt a tagdíj befizetése esetén kérlek hozzátok magatokkal! \nA klubnap időpontja: 2024. szeptember 12.\nHelyszín: Csili Művelődési Központ „B” épület (1201 Budapest Baross utca 55.) \nJelentkezni az alábbi elérhetőségeken keresztül lehet:\nE-mail: pesterzsebet.szervezo@vgyke.com\nMobil: 06301866328\n06704310445 \n 
URL:https://vgyke.com/event/lathatarbolt-es-ugyfelszolgalat-a-pesterzsebeti-klubnapon/
LOCATION:Csili Művelődési Központ (1201 Budapest Baross utca 55.)
ORGANIZER;CN="Dudikn%C3%A9 R%C3%A1cz Andrea":MAILTO:pesterzsebet.szervezo@vgyke.com
END:VEVENT
BEGIN:VEVENT
DTSTART;TZID=Europe/Budapest:20240913T140000
DTEND;TZID=Europe/Budapest:20240913T160000
DTSTAMP:20260422T235844
CREATED:20240903T081122Z
LAST-MODIFIED:20240903T081122Z
UID:36453-1726236000-1726243200@vgyke.com
SUMMARY:Emberevők földjén-avagy kalandok Pápua Új Guineában
DESCRIPTION:Szőllősi Mátyás újságíró tart élménybeszámolót Pápua Új Guineai útjáról
URL:https://vgyke.com/event/emberevok-foldjen-avagy-kalandok-papua-uj-guineaban/
LOCATION:Ferencvárosi Művelődési Központ Budapest Haller u. 27. 1093
ORGANIZER;CN="Szalai Mikl%C3%B3sn%C3%A9":MAILTO:ferencvaros.szervezo@vgyke.com
END:VEVENT
BEGIN:VEVENT
DTSTART;TZID=Europe/Budapest:20240916T150000
DTEND;TZID=Europe/Budapest:20240916T170000
DTSTAMP:20260422T235844
CREATED:20240912T100725Z
LAST-MODIFIED:20240912T100804Z
UID:36600-1726498800-1726506000@vgyke.com
SUMMARY:Szeptemberi lámpás klub: merüljünk el még utoljára a nyárban!
DESCRIPTION:Bár már tovatűntek a nyári napok\, remélhetőleg sokunk lelkében ott zsonganak a szünidő szép emlékei.
URL:https://vgyke.com/event/szeptemberi-lampas-klub-meruljunk-el-meg-utoljara-a-nyarban/
LOCATION:Napraforgó Család- és Gyermekjóléti Központ (1163 Budapest\, Cziráki utca 22.) I. emelet klubterem
ORGANIZER;CN="Czag%C3%A1ny Izabella":MAILTO:16.kerulet.szervezo@vgyke.com
END:VEVENT
BEGIN:VEVENT
DTSTART;TZID=Europe/Budapest:20240918T100000
DTEND;TZID=Europe/Budapest:20240918T120000
DTSTAMP:20260422T235844
CREATED:20240909T173659Z
LAST-MODIFIED:20240909T174107Z
UID:36526-1726653600-1726660800@vgyke.com
SUMMARY:Klub program
DESCRIPTION:Látogatás a Zuglói Japánkertbe. Hazánk elsőként épült Japánkertje Zugló szívében.
URL:https://vgyke.com/event/klub-program/
LOCATION:Zuglói Japánkert\, Kövér Lajos u. 1.\, Budapest\, 1149
ORGANIZER;CN="Kiss M%C3%A1rta":MAILTO:zuglo.szervezo@vgyke.com
END:VEVENT
BEGIN:VEVENT
DTSTART;TZID=Europe/Budapest:20240918T140000
DTEND;TZID=Europe/Budapest:20240918T143000
DTSTAMP:20260422T235844
CREATED:20240904T133156Z
LAST-MODIFIED:20240904T133156Z
UID:36470-1726668000-1726669800@vgyke.com
SUMMARY:Mi történt a nyáron? - Paralimpiáról és egyéb\, fontos eseményekről
DESCRIPTION:Rátóti Krisztina paralimpiai összefoglalója\, és más fontos események.
URL:https://vgyke.com/event/mi-tortent-a-nyaron-paralimpiarol-es-egyeb-fontos-esemenyekrol/
LOCATION:http://www.facebook.com/KozossegLampasaiKispest
ORGANIZER;CN="Ruzsa Viktor":MAILTO:kispest.szervezo@vgyke.com
END:VEVENT
BEGIN:VEVENT
DTSTART;TZID=Europe/Budapest:20240919T100000
DTEND;TZID=Europe/Budapest:20240919T140000
DTSTAMP:20260422T235844
CREATED:20240916T153206Z
LAST-MODIFIED:20240916T153206Z
UID:36680-1726740000-1726754400@vgyke.com
SUMMARY:Látogatás a Kiscelli Múzeumba
DESCRIPTION:A XIII. kerületi Lámpás klub tagjai ellátogatnak a a Kiscelli Múzeumba a Világ-város című kiállításra
URL:https://vgyke.com/event/latogatas-a-kiscelli-muzeumba/
LOCATION:Kiscelli Múzeum\, Kiscelli u. 108\,\, Budapest\, 1037
ORGANIZER;CN="Majl%C3%A1th M%C3%B3nika":MAILTO:angyalfold.szervezo@vgyke.com
END:VEVENT
BEGIN:VEVENT
DTSTART;TZID=Europe/Budapest:20240919T140000
DTEND;TZID=Europe/Budapest:20240919T160000
DTSTAMP:20260422T235844
CREATED:20240904T072907Z
LAST-MODIFIED:20240904T072907Z
UID:36461-1726754400-1726761600@vgyke.com
SUMMARY:Kerületünk szociális szolgáltatásairól Erzsébetvárosban
DESCRIPTION:A jelenlévők hallanak a klubvezetőttőtől a szociális szolgáltatásokról\, valamint elmesélhetik tapasztalataikat a témában egymásnak ha van.
URL:https://vgyke.com/event/keruletunk-szocialis-szolgaltatasairol-erzsebetvarosban/
LOCATION:1072 Budapest\, Nagydiófa utca 34. (KlauDió Civil Központ)
ORGANIZER;CN="J%C3%A1nosi Veronika":MAILTO:erzsebetvaros.szervezo@vgyke.com
END:VEVENT
BEGIN:VEVENT
DTSTART;TZID=Europe/Budapest:20240920T100000
DTEND;TZID=Europe/Budapest:20240920T120000
DTSTAMP:20260422T235844
CREATED:20240904T132519Z
LAST-MODIFIED:20240904T132558Z
UID:36468-1726826400-1726833600@vgyke.com
SUMMARY:Évadindító klub Békásmegyeren
DESCRIPTION:Kötetlen beszélgetéssel indítjuk az új évadot. Emellett lehetőséget nyújtunk Tagjaink számára tagdíjbefizetésre. Aki ebben segítségünkre lesz: Németh Róbert\, a Láthatár Segédeszközbolt munkatársa\, aki lehetőséget nyújt segédeszköz-vásárlásra is.
URL:https://vgyke.com/event/evadindito-klub-bekasmegyeren/
LOCATION:Békásmegyeri Közösségi Ház (1039 Budapest Csobánka tér 5.) I. emeleti kisterem
ORGANIZER;CN="Ruzsa Viktor":MAILTO:kispest.szervezo@vgyke.com
END:VEVENT
BEGIN:VEVENT
DTSTART;TZID=Europe/Budapest:20240920T180000
DTEND;TZID=Europe/Budapest:20240920T200000
DTSTAMP:20260422T235844
CREATED:20240917T081245Z
LAST-MODIFIED:20240917T081440Z
UID:36686-1726855200-1726862400@vgyke.com
SUMMARY:"A rakodópart alsó kövén ültem\, s néztem\, hogy úszik el a dinnyehéj."
DESCRIPTION:József Attila estre meghívó Kurucz Ádám Konrád Latinovits díjas versmondó előadásában.
URL:https://vgyke.com/event/a-rakodopart-also-koven-ultem-s-neztem-hogy-uszik-el-a-dinnyehej/
LOCATION:KF&T Kft. Galéria és & klub\, Kosztolányi Dezső tér 11\,\, Budapest\,\, 1114
ORGANIZER;CN="Szalai Mikl%C3%B3sn%C3%A9":MAILTO:ferencvaros.szervezo@vgyke.com
END:VEVENT
BEGIN:VEVENT
DTSTART;TZID=Europe/Budapest:20240923T140000
DTEND;TZID=Europe/Budapest:20240923T150000
DTSTAMP:20260422T235844
CREATED:20240917T150913Z
LAST-MODIFIED:20240917T150913Z
UID:36699-1727100000-1727103600@vgyke.com
SUMMARY:On-line tagfelvétel tájékoztató előadás
DESCRIPTION:Meghívó \nIsmét új on-line szolgáltatást indít a VGYKE! \nIntézze otthonából\, néhány kattintással\, akadálymentesen a VGYKE-be való belépését\, az online tagfelvételi regisztráción keresztül! Kérjen segítséget munkatársainktól chaten. Lépjen be egyesületünk tagságába és vegye igénybe a VGYKE számos ingyenes és kedvezményes szolgáltatását\, valamint az MVGYOSZ szolgáltatásait is.\nOn-line bankolunk\, vásárlunk és intézzük ügyeinket\, ez már napi rutinná vált a látássérültek körében is. A kényelmet gyorsan megszokjuk\, miért ne kérhetne segítséget és intézhetné tagságát az on-line térben?\nA szolgáltatás részleteit megtudhatja 2024. szeptember 23-án 14.00 órától a Google meet platformon tartott On-line tagfelvétel című tájékoztató előadásunkon.\nlink: https://meet.google.com/rjj-rbkx-okn\nVárjuk Önt sok szeretettel. Csatlakozzon bátran és tegye fel kérdéseit.\nKérjük ossza meg ezt az információt ismerőseivel\, barátaival\, munkatársaival\, jussunk el minél több látássérült személyhez\, akinek segítséget jelenthet ez a kényelmi szolgáltatás. \nÜdvözlettel: \nFodor Ágnes elnök \n  \nÖsszeállították és szerkesztették: az Ügyfélszolgálat munkatársai
URL:https://vgyke.com/event/on-line-tagfelvetel-tajekoztato-eloadas/
LOCATION:Google meet platformon: https://meet.google.com/rjj-rbkx-okn
END:VEVENT
BEGIN:VEVENT
DTSTART;TZID=Europe/Budapest:20240923T150000
DTEND;TZID=Europe/Budapest:20240923T170000
DTSTAMP:20260422T235844
CREATED:20240920T103119Z
LAST-MODIFIED:20240920T103119Z
UID:36740-1727103600-1727110800@vgyke.com
SUMMARY:Nyári élmények
DESCRIPTION:A XIII. kerületi Lámpás klub tagjai mesélnek a nyári élményekről
URL:https://vgyke.com/event/nyari-elmenyek/
LOCATION:Prevenciós Központ 1134. Budapest\, Tüzér u. 56-58.
ORGANIZER;CN="Majl%C3%A1th M%C3%B3nika":MAILTO:angyalfold.szervezo@vgyke.com
END:VEVENT
BEGIN:VEVENT
DTSTART;TZID=Europe/Budapest:20240925T150000
DTEND;TZID=Europe/Budapest:20240925T170000
DTSTAMP:20260422T235844
CREATED:20240912T100044Z
LAST-MODIFIED:20240912T100259Z
UID:36596-1727276400-1727283600@vgyke.com
SUMMARY:Szeptemberi klubnap az okoseszközökről oktatónkkal
DESCRIPTION:Vendégünk lesz Lakatos Melitta\, a VGYKE okoseszköz oktatója\, akit az online térből már többen ismerhetnek. Ezúttal személyesen látogat el hozzánk és néhány eszközt is magával hoz bemutatni nekünk.\nVárjuk az okoseszközök\, applikációk\, programok használatával kapcsolatos kérdéseket\, melyeket a lenti elérhetőségek valamelyikén eljuttathatok hozzánk a klub időpontját megelőzően vagy feltehetitek személyesen a klub napján.\nDélutánunkat közös játékkal\, beszélgetéssel zárjuk.
URL:https://vgyke.com/event/szeptemberi-klubnap-az-okoseszkozokrol-oktatonkkal/
LOCATION:Kondor Béla Közösségi Ház\, Kondor Béla sétány 8.\, Budapest\, 1181\, Magyarország
END:VEVENT
BEGIN:VEVENT
DTSTART;TZID=Europe/Budapest:20240926T100000
DTEND;TZID=Europe/Budapest:20240926T110000
DTSTAMP:20260422T235844
CREATED:20240924T072935Z
LAST-MODIFIED:20240924T072935Z
UID:36769-1727344800-1727348400@vgyke.com
SUMMARY:II. kerületi Lámpás Klub online alkalom
DESCRIPTION:Témánk: Kerületi civil szervező váltás\,az új közösségi szervező\, Pataky Andrea bemutatkozása. \nA II. kerületi Lámpás Klub következő online alkalma meghallgatható lesz\, szeptember 26. 10 órától a kerület facebook oldalán. \nKözösség Lámpásai II. kerület \nhttps://www.facebook.com/KozossegLampasaiMasodikKerulet \nVárunk mindenkit sok szeretettel! \nPataky Andrea \n\nkerület és Hegyvidék közösségi civil szervező\n\n 
URL:https://vgyke.com/event/ii-keruleti-lampas-klub-online-alkalom/
LOCATION:https://www.facebook.com/KozossegLampasaiMasodikKerulet
ORGANIZER;CN="Pataky Andrea":MAILTO:ujbuda.szervezo@vgyke.com
END:VEVENT
BEGIN:VEVENT
DTSTART;TZID=Europe/Budapest:20240927T100000
DTEND;TZID=Europe/Budapest:20240927T110000
DTSTAMP:20260422T235844
CREATED:20240924T073619Z
LAST-MODIFIED:20240924T073649Z
UID:36772-1727431200-1727434800@vgyke.com
SUMMARY:Budavár Lámpás Klub – szeptember Bemutatkozik az új közösségi civil szervező a Budavár kerületében
DESCRIPTION:Kedves klubtagok\, Tisztelt Érdeklődők!\nSzeretettel meghívom Önöket a Budavári Lámpás klub szeptemberii online klubjára. \nA klub vendége Jánosi Veronika\, aki vakon született és beszélgetésünk során elárul néhány háztartási praktikát az őszi nagytakarításhoz. \nA klub 2024. 09.27. 10órától megtekinthető lesz a: https://www.facebook.com/profile.php?id=61556165250075 \nfacebook oldalon. \nVárom észrevételeket és kéréseket a kerületi programokkal kapcsolatban. \nPataky Andrea \nKözösségi civilszervező \nElérhetőségek:\nMobil: +36 304989094 \nE-mail:budavar.szervezo@vgyke.com
URL:https://vgyke.com/event/budavar-lampas-klub-szeptember-bemutatkozik-az-uj-kozossegi-civil-szervezo-a-budavar-keruleteben/
LOCATION:https://www.facebook.com/profile.php?id=61556165250075
ORGANIZER;CN="Pataky Andrea":MAILTO:ujbuda.szervezo@vgyke.com
END:VEVENT
BEGIN:VEVENT
DTSTART;TZID=Europe/Budapest:20240927T170000
DTEND;TZID=Europe/Budapest:20240927T180000
DTSTAMP:20260422T235844
CREATED:20240926T074414Z
LAST-MODIFIED:20240926T074414Z
UID:36790-1727456400-1727460000@vgyke.com
SUMMARY:Online nyitóklub: bemutatkozik a Lipótvárosi Lámpás klub szervezője
DESCRIPTION:Kedves tagjaink\, érdeklődők\, feliratkozók! \n2024. szeptemberétől végre Lipótvárosban is online klubalkalommal jelentkezik a Közösség Lámpásai klubhálózat! A pár perces videó során bemutatkozik a klub szervezője és pár szóban bemutatja a Közösség Lámpásai programot is – szeretettel várunk minden érdeklődőt!\nAhogy eddig\, oldalunkon továbbra is rendszeresen osztunk majd meg híreket\, érdekességeket\, közérdekű információkat\, melyek érintik az V. kerületben élő látássérülteket. Azonban nemcsak őket\, hanem minden más érdeklődőt is szívesen látunk! Iratkozzatok fel minél többen\, le ne maradjatok valamiről!\nOldalunk csakis olvasóitól válhat élővé – ezért ha van téma\, amiről szívesen olvasnátok\, és illeszkedik a klub profiljához\, ne habozzatok jelezni kommentben vagy Messengeren!
URL:https://vgyke.com/event/online-nyitoklub-bemutatkozik-a-lipotvarosi-lampas-klub-szervezoje/
LOCATION:https://www.facebook.com/profile.php?id=61556396240804
ORGANIZER;CN="Czag%C3%A1ny Izabella":MAILTO:16.kerulet.szervezo@vgyke.com
END:VEVENT
END:VCALENDAR